{
 "currentVersion": 11.1,
 "serviceDescription": "Bathymetry/BarkleyCanyonONCArea_ForBasemap15_WG84_tif",
 "name": "Bathymetry/BarkleyCanyonONCArea_ForBasemap15_WG84_tif",
 "description": "",
 "extent": {
  "xmin": -126.44609971854027,
  "ymin": 48.19581054386027,
  "xmax": -125.80331707645986,
  "ymax": 48.56485348476668,
  "spatialReference": {
   "wkid": 4326,
   "latestWkid": 4326
  }
 },
 "initialExtent": {
  "xmin": -126.44609971854027,
  "ymin": 48.19581054386027,
  "xmax": -125.80331707645986,
  "ymax": 48.56485348476668,
  "spatialReference": {
   "wkid": 4326,
   "latestWkid": 4326
  }
 },
 "fullExtent": {
  "xmin": -126.44609971854027,
  "ymin": 48.19581054386027,
  "xmax": -125.80331707645986,
  "ymax": 48.56485348476668,
  "spatialReference": {
   "wkid": 4326,
   "latestWkid": 4326
  }
 },
 "sortableFields": "",
 "bandCount": 1,
 "pixelType": "F32",
 "minValues": [
  -2144.4689941406
 ],
 "maxValues": [
  -78.96199798584
 ],
 "meanValues": [
  -748.74265288823
 ],
 "stdvValues": [
  497.70315419078
 ],
 "hasMultidimensions": false,
 "pixelSizeX": 1.7140870455477475E-4,
 "pixelSizeY": 1.7140870455476586E-4,
 "datasetFormat": "TIFF",
 "uncompressedSize": 32286388,
 "blockWidth": 128,
 "blockHeight": 128,
 "compressionType": "None",
 "bandNames": [
  "Band_1"
 ],
 "allowCopy": true,
 "allowAnalysis": true,
 "itemAccess": false,
 "noDataValue": 0,
 "noDataValues": [
  0
 ],
 "minPixelSize": 0,
 "maxPixelSize": 0,
 "copyrightText": "",
 "serviceDataType": "esriImageServiceDataTypeGeneric",
 "serviceSourceType": "esriImageServiceSourceTypeDataset",
 "objectIdField": "",
 "fields": [],
 "capabilities": "Image,Metadata,Mensuration",
 "defaultMosaicMethod": "Center",
 "allowedMosaicMethods": "",
 "sortField": "",
 "sortValue": null,
 "sortAscending": true,
 "mosaicOperator": "First",
 "defaultCompressionQuality": 75,
 "defaultResamplingMethod": "Bilinear",
 "maxImageHeight": 4100,
 "maxImageWidth": 15000,
 "allowRasterFunction": true,
 "rasterFunctionInfos": [
  {
   "name": "None",
   "description": "",
   "help": ""
  }
 ],
 "rasterTypeInfos": [
  {
   "name": "Raster Dataset",
   "description": "Supports all ArcGIS Raster Datasets",
   "help": ""
  }
 ],
 "mensurationCapabilities": "Basic",
 "hasHistograms": true,
 "hasColormap": false,
 "hasRasterAttributeTable": false,
 "minScale": 0,
 "maxScale": 0,
 "exportTilesAllowed": false,
 "supportsStatistics": false,
 "supportsAdvancedQueries": false,
 "editFieldsInfo": null,
 "ownershipBasedAccessControlForRasters": null,
 "allowComputeTiePoints": false,
 "useStandardizedQueries": true,
 "advancedQueryCapabilities": {
  "useStandardizedQueries": true,
  "supportsStatistics": false,
  "supportsOrderBy": false,
  "supportsDistinct": false,
  "supportsPagination": false
 },
 "spatialReference": {
  "wkid": 4326,
  "latestWkid": 4326
 }
}
