{
 "currentVersion": 11.1,
 "serviceDescription": "Bathymetry/BarkleyCanyonONCArea_ForBasemap25_tif",
 "name": "Bathymetry/BarkleyCanyonONCArea_ForBasemap25_tif",
 "description": "",
 "extent": {
  "xmin": -126.6299890540471,
  "ymin": 48.02812242455043,
  "xmax": -125.68758151949355,
  "ymax": 48.51574195469809,
  "spatialReference": {
   "wkid": 4326,
   "latestWkid": 4326
  }
 },
 "initialExtent": {
  "xmin": -126.6299890540471,
  "ymin": 48.02812242455043,
  "xmax": -125.68758151949355,
  "ymax": 48.51574195469809,
  "spatialReference": {
   "wkid": 4326,
   "latestWkid": 4326
  }
 },
 "fullExtent": {
  "xmin": -126.6299890540471,
  "ymin": 48.02812242455043,
  "xmax": -125.68758151949355,
  "ymax": 48.51574195469809,
  "spatialReference": {
   "wkid": 4326,
   "latestWkid": 4326
  }
 },
 "sortableFields": "",
 "bandCount": 1,
 "pixelType": "F32",
 "minValues": [
  -2695.9699707031
 ],
 "maxValues": [
  -95.58699798584
 ],
 "meanValues": [
  -1133.2326483445
 ],
 "stdvValues": [
  724.62004571963
 ],
 "hasMultidimensions": false,
 "pixelSizeX": 2.8549152818950404E-4,
 "pixelSizeY": 2.8549152818949726E-4,
 "datasetFormat": "TIFF",
 "uncompressedSize": 22545600,
 "blockWidth": 128,
 "blockHeight": 128,
 "compressionType": "None",
 "bandNames": [
  "Band_1"
 ],
 "allowCopy": true,
 "allowAnalysis": true,
 "itemAccess": false,
 "noDataValue": 3.4028230607370965E38,
 "noDataValues": [
  3.4028230607370965E38
 ],
 "minPixelSize": 0,
 "maxPixelSize": 0,
 "copyrightText": "",
 "serviceDataType": "esriImageServiceDataTypeGeneric",
 "serviceSourceType": "esriImageServiceSourceTypeDataset",
 "objectIdField": "",
 "fields": [],
 "capabilities": "Image,Metadata,Mensuration",
 "defaultMosaicMethod": "Center",
 "allowedMosaicMethods": "",
 "sortField": "",
 "sortValue": null,
 "sortAscending": true,
 "mosaicOperator": "First",
 "defaultCompressionQuality": 75,
 "defaultResamplingMethod": "Bilinear",
 "maxImageHeight": 4100,
 "maxImageWidth": 15000,
 "allowRasterFunction": true,
 "rasterFunctionInfos": [
  {
   "name": "None",
   "description": "",
   "help": ""
  }
 ],
 "rasterTypeInfos": [
  {
   "name": "Raster Dataset",
   "description": "Supports all ArcGIS Raster Datasets",
   "help": ""
  }
 ],
 "mensurationCapabilities": "Basic",
 "hasHistograms": true,
 "hasColormap": false,
 "hasRasterAttributeTable": false,
 "minScale": 0,
 "maxScale": 0,
 "exportTilesAllowed": false,
 "supportsStatistics": false,
 "supportsAdvancedQueries": false,
 "editFieldsInfo": null,
 "ownershipBasedAccessControlForRasters": null,
 "allowComputeTiePoints": false,
 "useStandardizedQueries": true,
 "advancedQueryCapabilities": {
  "useStandardizedQueries": true,
  "supportsStatistics": false,
  "supportsOrderBy": false,
  "supportsDistinct": false,
  "supportsPagination": false
 },
 "spatialReference": {
  "wkid": 4326,
  "latestWkid": 4326
 }
}
