{
 "currentVersion": 11.1,
 "serviceDescription": "Bathymetry/Clayoquot_Survey_35m_tiff",
 "name": "Bathymetry/Clayoquot_Survey_35m_tiff",
 "description": "",
 "extent": {
  "xmin": 646572.5,
  "ymin": 5380917.5,
  "xmax": 680662.5,
  "ymax": 5414027.5,
  "spatialReference": {
   "wkid": 32609,
   "latestWkid": 32609
  }
 },
 "initialExtent": {
  "xmin": 646572.5,
  "ymin": 5380917.5,
  "xmax": 680662.5,
  "ymax": 5414027.5,
  "spatialReference": {
   "wkid": 32609,
   "latestWkid": 32609
  }
 },
 "fullExtent": {
  "xmin": 646572.5,
  "ymin": 5380917.5,
  "xmax": 680662.5,
  "ymax": 5414027.5,
  "spatialReference": {
   "wkid": 32609,
   "latestWkid": 32609
  }
 },
 "sortableFields": "",
 "bandCount": 1,
 "pixelType": "F32",
 "minValues": [
  -2097.4909667969
 ],
 "maxValues": [
  -635.48297119141
 ],
 "meanValues": [
  -1316.4674799732
 ],
 "stdvValues": [
  185.72234722399
 ],
 "hasMultidimensions": false,
 "pixelSizeX": 35,
 "pixelSizeY": 35,
 "datasetFormat": "TIFF",
 "uncompressedSize": 3685616,
 "blockWidth": 974,
 "blockHeight": 2,
 "compressionType": "DEFLATE",
 "bandNames": [
  "Depth"
 ],
 "allowCopy": true,
 "allowAnalysis": true,
 "itemAccess": false,
 "noDataValue": 3.4028234663852886E38,
 "noDataValues": [
  3.4028234663852886E38
 ],
 "minPixelSize": 0,
 "maxPixelSize": 0,
 "copyrightText": "",
 "serviceDataType": "esriImageServiceDataTypeGeneric",
 "serviceSourceType": "esriImageServiceSourceTypeDataset",
 "objectIdField": "",
 "fields": [],
 "capabilities": "Image,Metadata,Mensuration",
 "defaultMosaicMethod": "Center",
 "allowedMosaicMethods": "",
 "sortField": "",
 "sortValue": null,
 "sortAscending": true,
 "mosaicOperator": "First",
 "defaultCompressionQuality": 75,
 "defaultResamplingMethod": "Bilinear",
 "maxImageHeight": 4100,
 "maxImageWidth": 15000,
 "allowRasterFunction": true,
 "rasterFunctionInfos": [
  {
   "name": "None",
   "description": "",
   "help": ""
  }
 ],
 "rasterTypeInfos": [
  {
   "name": "Raster Dataset",
   "description": "Supports all ArcGIS Raster Datasets",
   "help": ""
  }
 ],
 "mensurationCapabilities": "Basic",
 "hasHistograms": true,
 "hasColormap": false,
 "hasRasterAttributeTable": false,
 "minScale": 0,
 "maxScale": 0,
 "exportTilesAllowed": false,
 "supportsStatistics": false,
 "supportsAdvancedQueries": false,
 "editFieldsInfo": null,
 "ownershipBasedAccessControlForRasters": null,
 "allowComputeTiePoints": false,
 "useStandardizedQueries": true,
 "advancedQueryCapabilities": {
  "useStandardizedQueries": true,
  "supportsStatistics": false,
  "supportsOrderBy": false,
  "supportsDistinct": false,
  "supportsPagination": false
 },
 "spatialReference": {
  "wkid": 32609,
  "latestWkid": 32609
 }
}
