<?xml version="1.0" encoding="UTF-8" standalone="no"?>
<metadata>
<idinfo>
<citation>
<citeinfo>
<origin>Philip Hill</origin>
<pubdate>Unpublished Material</pubdate>
<title>Gridded multibeam bathymetry mosaic, Georgia Basin, British Columbia, Canada</title>
<geoform>SDE raster digital data</geoform>
</citeinfo>
</citation>
<descript>
<abstract>This multibeam data set contains gridded depth values for the Salish Sea area of Georgia Basin, coastal British Columbia, Canada.</abstract>
<purpose>The data were collected for regional seabed geological mapping purposes. This mosaic is an amalgamation of multibeam sonar data collected by many surveys between 1994 and 2008.</purpose>
<supplinf>English</supplinf>
</descript>
<timeperd>
<timeinfo>
<rngdates>
<begdate>1994</begdate>
<enddate>2008</enddate>
</rngdates>
</timeinfo>
<current>ground condition</current>
</timeperd>
<status>
<progress>Complete</progress>
<update>As needed</update>
</status>
<spdom>
<bounding>
<westbc>
-126.517509</westbc>
<eastbc>
-122.633130</eastbc>
<northbc>
50.935087</northbc>
<southbc>
48.118258</southbc>
</bounding>
</spdom>
<keywords>
<theme>
<themekt>None</themekt>
<themekey>bathymetry</themekey>
<themekey>multibeam</themekey>
<themekey>grid</themekey>
<themekey>topography</themekey>
<themekey>seafloor</themekey>
<themekey>morphology</themekey>
<themekey>EM1002</themekey>
<themekey>Kongsberg Simrad EM1002</themekey>
</theme>
<place>
<placekt>None</placekt>
<placekey>Canada</placekey>
<placekey>British Columbia</placekey>
<placekey>Georgia Basin</placekey>
<placekey>Salish Sea</placekey>
<placekey>Strait of Georgia</placekey>
<placekey>Howe Sound</placekey>
<placekey>Juan de Fuca Strait</placekey>
<placekey>Haro Strait</placekey>
<placekey>Malaspina Strait</placekey>
</place>
</keywords>
<accconst>None</accconst>
<useconst>Her Majesty the Queen in Right of Canada 2005</useconst>
<ptcontac>
<cntinfo>
<cntperp>
<cntper>Kim Conway</cntper>
<cntorg>Government of Canada, Natural Resources Canada, Earth Sciences Sector, Sedimentary and Marine Geoscience Branch, Geological Survey of Canada (Pacific)</cntorg>
</cntperp>
<cntpos>Physical Scientist</cntpos>
<cntaddr>
<addrtype>mailing and physical address</addrtype>
<address>P.O. Box 6000, 9860 West Saanich Rd</address>
<city>Sidney</city>
<state>British Columbia</state>
<postal>V8L 4B2</postal>
<country>Canada</country>
</cntaddr>
<cntvoice>+01-250-363-6400</cntvoice>
<cntfax>+01-250-363-6565</cntfax>
<cntemail>kconway@nrcan.gc.ca</cntemail>
<hours>0830-1630 PST</hours>
</cntinfo>
</ptcontac>
<datacred>Geological Survey of Canada, Geoscience for Ocean Management Program</datacred>
<native>Windows Server 2012 R2 Standard / Oracle 12c / ArcSDE 10.x</native>
</idinfo>
<dataqual>
<logic>Unspecified</logic>
<complete>Complete</complete>
<posacc>
<horizpa>
<horizpar>These data were collected using Differential Global Positioning System (DGPS) which determines the position of the vessel with an accuracy of 3 to 5 metres. The horizontal accuracy of the swath data is variable, depending on beam angle, water depth and inaccuracies due to sound velocity profile errors.
Soundings and backscatter geo-referenced in real time by the Applied Analytics POS/MV 320 incorporating two GPS antennas and an inertial unit to determine position, heading and attitude; DGPS corrections supplied by the Canadian Coast Guard DGPS system of radio beacons</horizpar>
<qhorizpa>
<horizpav>5.0</horizpav>
<horizpae>Soundings positioned better than 5.0 m. The EM1002 capability for horizontal target detection is limited to ~5% water depth.</horizpae>
</qhorizpa>
</horizpa>
<vertacc>
<vertaccr>Depth readings are accurate to within 30cm in water depths less than 30m and 1% of water depth in water depths greater than 30m. Sounding were adjusted for static heave and heave in real time by the Applied Analytics POS/MV 320; Soundings were reduced to sounding datum by applying water level corrections from predicted, pseudo or observed tides, where available.</vertaccr>
<qvertpa>
<vertaccv>1.0</vertaccv>
<vertacce>Soundings better than 1.0 m . The vertical accuracy the EM1002 data is ~1% of water depth.</vertacce>
</qvertpa>
</vertacc>
</posacc>
<lineage>
<procstep>
<procdesc>The raw EM1002 Simrad data were processed with CARIS Hydrographic Information Processing Software (HIPS). The outlying navigation and attitude sensor data were rejected, the gaps restored using linear interpolation, and the filtered data were then merged with DGPS and POS/MV input. Subsequently, automatic coarse filters were applied to swath data (+/- 60 deg swath angle and +/- 12 deg sounding-to-sounding across-track slope). Spurious data points were removed manually in the SwathEdit module of HIPS on a line-by-line basis, and tidal corrections were applied (predicted, or observed, if available). After merging the data (depths/tides/navigation) HIPS Subset module cleaning was completed, a beam-weighted-mean base surface (grid) was generated and the gridded data were exported to an ASCII format as XYZ triplets.</procdesc>
<procdate>200102</procdate>
<proccont>
<cntinfo>
<cntperp>
<cntper>Ernest Sargent</cntper>
<cntorg>Canadian Hydrographic Service, Pacific Region</cntorg>
</cntperp>
<cntpos>Hydrographer in Charge</cntpos>
<cntaddr>
<addrtype>mailing and physical address</addrtype>
<address>P.O. Box 6000, 9860 West Saanich Rd.</address>
<city>Sidney</city>
<state>British Columbia</state>
<postal>V8L 4B2</postal>
<country>Canada</country>
</cntaddr>
<cntvoice>+01-250-363-6381</cntvoice>
<cntfax>+01-250-363-6323</cntfax>
<cntemail>SargentE@dfo-mpo.gc.ca</cntemail>
<hours>M-F, 08:30-16:30 Pacific time</hours>
</cntinfo>
</proccont>
</procstep>
<procstep>
<procdesc>The XYZ values were then imported into ESRI ArcMap GIS V. 8.3 package as a point feature class.</procdesc>
<procdate>200103</procdate>
<proccont>
<cntinfo>
<cntperp>
<cntper>Robert Kung</cntper>
<cntorg>Geological Survey of Canada (Pacific)</cntorg>
</cntperp>
<cntpos>GIS Specialist</cntpos>
<cntaddr>
<addrtype>mailing and physical address</addrtype>
<address>P.O. Box 6000, 9860 West Saanich Rd.</address>
<city>Sidney</city>
<state>British Columbia</state>
<postal>V8L 4B2</postal>
<country>Canada</country>
</cntaddr>
<cntvoice>+01-250-363-6526</cntvoice>
<cntfax>+01-250-363-6565</cntfax>
<cntemail>kung@nrcan.gc.ca</cntemail>
<hours>Monday - Friday 0830-1630 PST</hours>
</cntinfo>
</proccont>
</procstep>
<procstep>
<procdesc>Data gridded at 5m spatial resolution using Feature to Raster option from the ArcToolbox menu. Small data gaps, if present, were interpolated using a conditional null statement, populating the 'nodata' cells with a product of a focal mean function based on a 3x3 rectangular neighbourhood.</procdesc>
<procdate>200604</procdate>
<proccont>
<cntinfo>
<cntperp>
<cntper>Robert Kung</cntper>
<cntorg>Geological Survey of Canada (Pacific)</cntorg>
</cntperp>
<cntpos>GIS Specialist</cntpos>
<cntaddr>
<addrtype>mailing and physical address</addrtype>
<address>P.O. Box 6000, 9860 West Saanich Rd.</address>
<city>Sidney</city>
<state>British Columbia</state>
<postal>V8L 4B2</postal>
<country>Canada</country>
</cntaddr>
<cntvoice>+01-250-363-6526</cntvoice>
<cntfax>+01-250-363-6565</cntfax>
<cntemail>kung@nrcan.gc.ca</cntemail>
<hours>Monday - Friday 0830-1630 PST</hours>
</cntinfo>
</proccont>
</procstep>
<procstep>
<procdesc>Adjacent surveys within the Georgia Basin were merged together using the ArcGIS Spatial Analyst mosaicing tool.</procdesc>
<proccont>
<cntinfo>
<cntperp>
<cntper>Robert Kung</cntper>
<cntorg>Geological Survey of Canada (Pacific)</cntorg>
</cntperp>
<cntpos>GIS Specialist</cntpos>
<cntvoice>+01-250-363-6526</cntvoice>
<cntfax>+01-250-363-6565</cntfax>
<cntemail>kung@nrcan.gc.ca</cntemail>
<hours>Monday - Friday 0830-1630 PST</hours>
</cntinfo>
</proccont>
</procstep>
<procstep>
<procdesc Sync="TRUE">Metadata imported.</procdesc>
<srcused Sync="TRUE">U:\METADATA\PGC_SDE.xml</srcused>
<procdate Sync="TRUE">20161115</procdate>
<proctime Sync="TRUE">15051800</proctime>
</procstep>
</lineage>
</dataqual>
<spdoinfo>
<direct>Raster</direct>
<rastinfo>
<rasttype>Pixel</rasttype>
<rowcount>61563</rowcount>
<colcount>54639</colcount>
<vrtcount>1</vrtcount>
<rastxsz Sync="TRUE">5.000000</rastxsz>
<rastysz Sync="TRUE">5.000000</rastysz>
<rastbpp Sync="TRUE">32</rastbpp>
<rastorig Sync="TRUE">Upper Left</rastorig>
<rastcmap Sync="TRUE">FALSE</rastcmap>
<rastcomp Sync="TRUE">LZ77</rastcomp>
<rastband Sync="TRUE">1</rastband>
<rastdtyp Sync="TRUE">pixel codes</rastdtyp>
<rastifor Sync="TRUE">FGDBR</rastifor>
<rastplyr Sync="TRUE">TRUE</rastplyr>
</rastinfo>
</spdoinfo>
<spref>
<horizsys>
<planar>
<planci>
<plance>row and column</plance>
<coordrep>
<absres>5.000000</absres>
<ordres>5.000000</ordres>
</coordrep>
<plandu>meters</plandu>
</planci>
</planar>
<geodetic>
<horizdn>D_WGS_1984</horizdn>
<ellips>WGS_1984</ellips>
<semiaxis>6378137.000000</semiaxis>
<denflat>298.257224</denflat>
</geodetic>
</horizsys>
<vertdef>
<altsys>
<altres>1.000000</altres>
<altenc>Explicit elevation coordinate included with horizontal coordinates</altenc>
</altsys>
<depthsys>
<depthdn>
Chart datum; datum for sounding reduction</depthdn>
<depthres>5</depthres>
<depthdu>meters</depthdu>
<depthem>Explicit depth coordinate included with horizontal coordinates</depthem>
</depthsys>
</vertdef>
</spref>
<eainfo>
<overview>
<eaover>Each raster entity or pixel contains a number referencing a depth.</eaover>
<eadetcit>None</eadetcit>
</overview>
</eainfo>
<distinfo>
<distrib>
<cntinfo>
<cntperp>
<cntper>Kim Picard</cntper>
<cntorg>Government of Canada, Natural Resources Canada, Earth Sciences Sector, Sedimentary and Marine Geoscience Branch, Geological Survey of Canada (Pacific)</cntorg>
</cntperp>
<cntpos>Geologist</cntpos>
<cntaddr>
<addrtype>mailing and physical address</addrtype>
<address>P.O. Box 6000, 9860 West Saanich Rd</address>
<city>Sidney</city>
<state>British Columbia</state>
<postal>V8L 4B2</postal>
<country>Canada</country>
</cntaddr>
<cntvoice>+01-250-363-6426</cntvoice>
<cntfax>+01-250-363-6565</cntfax>
<cntemail>kpicard@nrcan.gc.ca</cntemail>
<hours>0830-1630 PST</hours>
</cntinfo>
</distrib>
<resdesc>Downloadable Data</resdesc>
<distliab>Canada makes no representation or warranty of any kind with respect to the accuracy, usefulness, novelty, validity, scope, completeness or currency of the data and expressly disclaims any implied warranty of merchantability or fitness for a particular purpose of the data.</distliab>
<stdorder>
<digform>
<digtinfo>
<formname>ARCG</formname>
<formvern>9.3.1</formvern>
<transize>224.09</transize>
</digtinfo>
<digtopt>
<offoptn>
<offmedia>CD-ROM</offmedia>
<recfmt>ISO 9660 with Joliet</recfmt>
</offoptn>
</digtopt>
</digform>
<fees>Fees may apply for formatting, media and delivery.</fees>
</stdorder>
</distinfo>
<metainfo>
<metd>20161115</metd>
<metrd>2090608</metrd>
<metc>
<cntinfo>
<cntperp>
<cntper>Peter Neelands</cntper>
<cntorg>Government of Canada, Natural Resources Canada, Earth Sciences Sector, Sedimentary and Marine Geoscience Branch, Geological Survey of Canada (Pacific)</cntorg>
</cntperp>
<cntpos>Metadata Coordinator</cntpos>
<cntaddr>
<addrtype>mailing and physical address</addrtype>
<address>P.O. Box 6000, 9860 West Saanich Rd</address>
<city>Sidney</city>
<state>British Columbia</state>
<postal>V8L 4B2</postal>
<country>Canada</country>
</cntaddr>
<cntvoice>+01-250-363-6983</cntvoice>
<cntfax>+01-250-363-6565</cntfax>
<cntemail>neelands@nrcan.gc.ca</cntemail>
<hours>Monday to Friday 08:30-16:30 PST</hours>
</cntinfo>
</metc>
<metstdn>FGDC Content Standards for Digital Geospatial Metadata</metstdn>
<metstdv>FGDC-STD-001-1998</metstdv>
<mettc>local time</mettc>
</metainfo>
<Esri>
<MetaID>{8E925BE4-22FE-494E-9083-74707D64F952}</MetaID>
<CreaDate>20161115</CreaDate>
<CreaTime>15051800</CreaTime>
<SyncOnce>FALSE</SyncOnce>
<ModDate>20190625</ModDate>
<ModTime>10145700</ModTime>
<DataProperties>
<itemProps>
<itemName Sync="TRUE">MB_MOSAIC_GEORGIA_BASIN</itemName>
<imsContentType Sync="TRUE">002</imsContentType>
<nativeExtBox>
<westBL Sync="TRUE">252584.280000</westBL>
<eastBL Sync="TRUE">525779.280000</eastBL>
<southBL Sync="TRUE">5334791.400000</southBL>
<northBL Sync="TRUE">5642606.400000</northBL>
<exTypeCode Sync="TRUE">1</exTypeCode>
</nativeExtBox>
<itemLocation>
<linkage Sync="TRUE">file://\\W-SID-A122630\C$\Clients2\Mullan\MB4ONC.gdb</linkage>
<protocol Sync="TRUE">Local Area Network</protocol>
</itemLocation>
</itemProps>
<coordRef>
<type Sync="TRUE">Projected</type>
<geogcsn Sync="TRUE">GCS_WGS_1984</geogcsn>
<csUnits Sync="TRUE">Linear Unit: Meter (1.000000)</csUnits>
<projcsn Sync="TRUE">WGS_1984_UTM_Zone_10N</projcsn>
<peXml Sync="TRUE">&lt;ProjectedCoordinateSystem xsi:type='typens:ProjectedCoordinateSystem' xmlns:xsi='http://www.w3.org/2001/XMLSchema-instance' xmlns:xs='http://www.w3.org/2001/XMLSchema' xmlns:typens='http://www.esri.com/schemas/ArcGIS/10.1'&gt;&lt;WKT&gt;PROJCS[&amp;quot;WGS_1984_UTM_Zone_10N&amp;quot;,GEOGCS[&amp;quot;GCS_WGS_1984&amp;quot;,DATUM[&amp;quot;D_WGS_1984&amp;quot;,SPHEROID[&amp;quot;WGS_1984&amp;quot;,6378137.0,298.257223563]],PRIMEM[&amp;quot;Greenwich&amp;quot;,0.0],UNIT[&amp;quot;Degree&amp;quot;,0.0174532925199433]],PROJECTION[&amp;quot;Transverse_Mercator&amp;quot;],PARAMETER[&amp;quot;False_Easting&amp;quot;,500000.0],PARAMETER[&amp;quot;False_Northing&amp;quot;,0.0],PARAMETER[&amp;quot;Central_Meridian&amp;quot;,-123.0],PARAMETER[&amp;quot;Scale_Factor&amp;quot;,0.9996],PARAMETER[&amp;quot;Latitude_Of_Origin&amp;quot;,0.0],UNIT[&amp;quot;Meter&amp;quot;,1.0],AUTHORITY[&amp;quot;EPSG&amp;quot;,32610]]&lt;/WKT&gt;&lt;XOrigin&gt;-5120900&lt;/XOrigin&gt;&lt;YOrigin&gt;-9998100&lt;/YOrigin&gt;&lt;XYScale&gt;450445547.3910538&lt;/XYScale&gt;&lt;ZOrigin&gt;0&lt;/ZOrigin&gt;&lt;ZScale&gt;1&lt;/ZScale&gt;&lt;MOrigin&gt;0&lt;/MOrigin&gt;&lt;MScale&gt;1&lt;/MScale&gt;&lt;XYTolerance&gt;0.001&lt;/XYTolerance&gt;&lt;ZTolerance&gt;2&lt;/ZTolerance&gt;&lt;MTolerance&gt;2&lt;/MTolerance&gt;&lt;HighPrecision&gt;true&lt;/HighPrecision&gt;&lt;WKID&gt;32610&lt;/WKID&gt;&lt;LatestWKID&gt;32610&lt;/LatestWKID&gt;&lt;/ProjectedCoordinateSystem&gt;</peXml>
</coordRef>
<lineage>
<Process Date="20170202" Time="120126" ToolSource="c:\program files (x86)\arcgis\desktop10.1\ArcToolbox\Toolboxes\Data Management Tools.tbx\CopyRaster">CopyRaster "Database Connections\GSCPGC in Data Centre - PGC_ADMIN.sde\PGC_SDE.MB_MOSAIC_GEORGIA_BASIN" G:\NorthCoastProjectGIS\DATA\MultibeamBathymetry.gdb\MB_MOSAIC_GEORGIA_BASIN # # -3.402823e+038 NONE NONE # NONE NONE</Process>
<Process Date="20190625" Time="101543" ToolSource="c:\program files (x86)\arcgis\desktop10.1\ArcToolbox\Toolboxes\Data Management Tools.tbx\CopyRaster">CopyRaster G:\SHIPProjectGIS\DATA\MultibeamBathymetry.gdb\MB_MOSAIC_GEORGIA_BASIN C:\Clients2\Mullan\MB4ONC.gdb\MB_MOSAIC_GEORGIA_BASIN # # -3.402823e+038 NONE NONE # NONE NONE</Process>
</lineage>
</DataProperties>
<SyncDate>20190625</SyncDate>
<SyncTime>10145700</SyncTime>
</Esri>
<mdDateSt Sync="TRUE">20190625</mdDateSt>
<dataIdInfo>
<envirDesc Sync="TRUE">Microsoft Windows 7 Version 6.1 (Build 7601) Service Pack 1; Esri ArcGIS 10.1.0.3035</envirDesc>
<dataLang>
<languageCode Sync="TRUE" value="eng"/>
<countryCode Sync="TRUE" value="USA"/>
</dataLang>
<idCitation>
<resTitle Sync="TRUE">MB_MOSAIC_GEORGIA_BASIN</resTitle>
<presForm>
<PresFormCd Sync="TRUE" value="011"/>
</presForm>
</idCitation>
<spatRpType>
<SpatRepTypCd Sync="TRUE" value="002"/>
</spatRpType>
<dataExt>
<geoEle>
<GeoBndBox esriExtentType="search">
<exTypeCode Sync="TRUE">1</exTypeCode>
<westBL Sync="TRUE">-126.517509</westBL>
<eastBL Sync="TRUE">-122.633130</eastBL>
<northBL Sync="TRUE">50.935087</northBL>
<southBL Sync="TRUE">48.118258</southBL>
</GeoBndBox>
</geoEle>
</dataExt>
<idAbs/>
<searchKeys>
<keyword>bathymetry</keyword>
<keyword>salish</keyword>
<keyword>sea</keyword>
</searchKeys>
<idPurp>Shows the bathymetry in the Salish Sea in British Columbia.</idPurp>
<idCredit/>
<resConst>
<Consts>
<useLimit/>
</Consts>
</resConst>
</dataIdInfo>
<mdLang>
<languageCode Sync="TRUE" value="eng"/>
<countryCode Sync="TRUE" value="USA"/>
</mdLang>
<mdChar>
<CharSetCd Sync="TRUE" value="006"/>
</mdChar>
<distInfo>
<distFormat>
<formatName Sync="TRUE">File Geodatabase Raster Dataset</formatName>
</distFormat>
</distInfo>
<mdHrLv>
<ScopeCd Sync="TRUE" value="005"/>
</mdHrLv>
<mdHrLvName Sync="TRUE">dataset</mdHrLvName>
<refSysInfo>
<RefSystem>
<refSysID>
<identCode Sync="TRUE" code="32610" value="32610"/>
<idCodeSpace Sync="TRUE">EPSG</idCodeSpace>
<idVersion Sync="TRUE">7.9.4</idVersion>
</refSysID>
</RefSystem>
</refSysInfo>
</metadata>
