{
 "currentVersion": 11.1,
 "serviceDescription": "Bathymetry/MiddleValleyTest_50cm_tif",
 "name": "Bathymetry/MiddleValleyTest_50cm_tif",
 "description": "",
 "extent": {
  "xmin": 521197,
  "ymin": 5366822.5,
  "xmax": 521785.5,
  "ymax": 5367598,
  "spatialReference": {
   "wkid": 32609,
   "latestWkid": 32609
  }
 },
 "initialExtent": {
  "xmin": 521197,
  "ymin": 5366822.5,
  "xmax": 521785.5,
  "ymax": 5367598,
  "spatialReference": {
   "wkid": 32609,
   "latestWkid": 32609
  }
 },
 "fullExtent": {
  "xmin": 521197,
  "ymin": 5366822.5,
  "xmax": 521785.5,
  "ymax": 5367598,
  "spatialReference": {
   "wkid": 32609,
   "latestWkid": 32609
  }
 },
 "sortableFields": "",
 "bandCount": 1,
 "pixelType": "F32",
 "minValues": [
  -2423.5725097656
 ],
 "maxValues": [
  -2399.015625
 ],
 "meanValues": [
  -2415.4299622259
 ],
 "stdvValues": [
  3.8488616176393
 ],
 "hasMultidimensions": false,
 "pixelSizeX": 0.5,
 "pixelSizeY": 0.5,
 "datasetFormat": "TIFF",
 "uncompressedSize": 7302108,
 "blockWidth": 1177,
 "blockHeight": 1,
 "compressionType": "LZW",
 "bandNames": [
  "Band_1"
 ],
 "allowCopy": true,
 "allowAnalysis": true,
 "itemAccess": false,
 "noDataValue": -9999,
 "noDataValues": [
  -9999
 ],
 "minPixelSize": 0,
 "maxPixelSize": 0,
 "copyrightText": "",
 "serviceDataType": "esriImageServiceDataTypeGeneric",
 "serviceSourceType": "esriImageServiceSourceTypeDataset",
 "objectIdField": "",
 "fields": [],
 "capabilities": "Image,Metadata,Mensuration",
 "defaultMosaicMethod": "Center",
 "allowedMosaicMethods": "",
 "sortField": "",
 "sortValue": null,
 "sortAscending": true,
 "mosaicOperator": "First",
 "defaultCompressionQuality": 75,
 "defaultResamplingMethod": "Bilinear",
 "maxImageHeight": 4100,
 "maxImageWidth": 15000,
 "allowRasterFunction": true,
 "rasterFunctionInfos": [
  {
   "name": "None",
   "description": "",
   "help": ""
  }
 ],
 "rasterTypeInfos": [
  {
   "name": "Raster Dataset",
   "description": "Supports all ArcGIS Raster Datasets",
   "help": ""
  }
 ],
 "mensurationCapabilities": "Basic",
 "hasHistograms": true,
 "hasColormap": false,
 "hasRasterAttributeTable": false,
 "minScale": 0,
 "maxScale": 0,
 "exportTilesAllowed": false,
 "supportsStatistics": false,
 "supportsAdvancedQueries": false,
 "editFieldsInfo": null,
 "ownershipBasedAccessControlForRasters": null,
 "allowComputeTiePoints": false,
 "useStandardizedQueries": true,
 "advancedQueryCapabilities": {
  "useStandardizedQueries": true,
  "supportsStatistics": false,
  "supportsOrderBy": false,
  "supportsDistinct": false,
  "supportsPagination": false
 },
 "spatialReference": {
  "wkid": 32609,
  "latestWkid": 32609
 }
}
