{ "currentVersion": 11.1, "serviceDescription": "
This is a bathymetry dataset at 10 metre resoution for Clayoquot Canyon. <\/SPAN>It was captured on the E/V Nautilus on June, 2017 during a maintenance expedition to NEPTUNE. <\/SPAN><\/P><\/DIV><\/DIV><\/DIV>",
"name": "Bathymetry/NA081_20170611_ClayoquotCanyon_prio1_10m_srf_tif",
"description": " This is a bathymetry dataset at 10 metre resoution for Clayoquot Canyon. <\/SPAN>It was captured on the E/V Nautilus on June, 2017 during a maintenance expedition to NEPTUNE. <\/SPAN><\/P><\/DIV><\/DIV><\/DIV>",
"extent": {
"xmin": 666279.262856676,
"ymin": 5419291.629263934,
"xmax": 683649.262856676,
"ymax": 5433331.629263934,
"spatialReference": {
"wkid": 32609,
"latestWkid": 32609
}
},
"initialExtent": {
"xmin": 666279.262856676,
"ymin": 5419291.629263934,
"xmax": 683649.262856676,
"ymax": 5433331.629263934,
"spatialReference": {
"wkid": 32609,
"latestWkid": 32609
}
},
"fullExtent": {
"xmin": 666279.262856676,
"ymin": 5419291.629263934,
"xmax": 683649.262856676,
"ymax": 5433331.629263934,
"spatialReference": {
"wkid": 32609,
"latestWkid": 32609
}
},
"sortableFields": "",
"bandCount": 1,
"pixelType": "F32",
"minValues": [
-875.96405029297
],
"maxValues": [
-154.28433227539
],
"meanValues": [
-417.36066909133
],
"stdvValues": [
201.09199835637
],
"hasMultidimensions": false,
"pixelSizeX": 10,
"pixelSizeY": 10,
"datasetFormat": "TIFF",
"uncompressedSize": 9754992,
"blockWidth": 1737,
"blockHeight": 1,
"compressionType": "LZW",
"bandNames": [
"Band_1"
],
"allowCopy": true,
"allowAnalysis": true,
"itemAccess": false,
"noDataValue": -9999,
"noDataValues": [
-9999
],
"minPixelSize": 0,
"maxPixelSize": 0,
"copyrightText": "Karen Douglas",
"serviceDataType": "esriImageServiceDataTypeGeneric",
"serviceSourceType": "esriImageServiceSourceTypeDataset",
"objectIdField": "",
"fields": [],
"capabilities": "Image,Metadata,Mensuration",
"defaultMosaicMethod": "Center",
"allowedMosaicMethods": "",
"sortField": "",
"sortValue": null,
"sortAscending": true,
"mosaicOperator": "First",
"defaultCompressionQuality": 75,
"defaultResamplingMethod": "Bilinear",
"maxImageHeight": 4100,
"maxImageWidth": 15000,
"allowRasterFunction": true,
"rasterFunctionInfos": [
{
"name": "None",
"description": "",
"help": ""
}
],
"rasterTypeInfos": [
{
"name": "Raster Dataset",
"description": "Supports all ArcGIS Raster Datasets",
"help": ""
}
],
"mensurationCapabilities": "Basic",
"hasHistograms": true,
"hasColormap": false,
"hasRasterAttributeTable": false,
"minScale": 0,
"maxScale": 0,
"exportTilesAllowed": false,
"supportsStatistics": false,
"supportsAdvancedQueries": false,
"editFieldsInfo": null,
"ownershipBasedAccessControlForRasters": null,
"allowComputeTiePoints": false,
"useStandardizedQueries": true,
"advancedQueryCapabilities": {
"useStandardizedQueries": true,
"supportsStatistics": false,
"supportsOrderBy": false,
"supportsDistinct": false,
"supportsPagination": false
},
"spatialReference": {
"wkid": 32609,
"latestWkid": 32609
}
}