{ "currentVersion": 11.1, "serviceDescription": "
This dataset was captured by the EM302 (DI: 23909) aboard the Nautilus<\/SPAN>. The survey took place from <\/SPAN>2020-09-07<\/SPAN> <\/SPAN>06:59:<\/SPAN>41 UTC to 2020-09-08 01:19:16 UTC.<\/SPAN><\/P><\/DIV><\/DIV><\/DIV>",
"name": "Bathymetry/NA120_20200907_WestValley_75m_srf_tif",
"description": " This dataset was captured by the EM302 (DI: 23909) aboard the Nautilus<\/SPAN>. The survey took place from <\/SPAN>2020-09-07<\/SPAN> <\/SPAN>06:59:<\/SPAN>41 UTC to 2020-09-08 01:19:16 UTC.<\/SPAN><\/P><\/DIV><\/DIV><\/DIV>",
"extent": {
"xmin": 482400,
"ymin": 5343300,
"xmax": 508725,
"ymax": 5388225,
"spatialReference": {
"wkid": 32609,
"latestWkid": 32609
}
},
"initialExtent": {
"xmin": 482400,
"ymin": 5343300,
"xmax": 508725,
"ymax": 5388225,
"spatialReference": {
"wkid": 32609,
"latestWkid": 32609
}
},
"fullExtent": {
"xmin": 482400,
"ymin": 5343300,
"xmax": 508725,
"ymax": 5388225,
"spatialReference": {
"wkid": 32609,
"latestWkid": 32609
}
},
"sortableFields": "",
"bandCount": 1,
"pixelType": "F32",
"minValues": [
-3053.4194335938
],
"maxValues": [
-1326.6970214844
],
"meanValues": [
-2680.285736464
],
"stdvValues": [
287.71925779683
],
"hasMultidimensions": false,
"pixelSizeX": 75,
"pixelSizeY": 75,
"datasetFormat": "TIFF",
"uncompressedSize": 840996,
"blockWidth": 351,
"blockHeight": 1,
"compressionType": "LZW",
"bandNames": [
"Band_1"
],
"allowCopy": true,
"allowAnalysis": true,
"itemAccess": false,
"noDataValue": -9999,
"noDataValues": [
-9999
],
"minPixelSize": 0,
"maxPixelSize": 0,
"copyrightText": "Ocean Networks Canada",
"serviceDataType": "esriImageServiceDataTypeGeneric",
"serviceSourceType": "esriImageServiceSourceTypeDataset",
"objectIdField": "",
"fields": [],
"capabilities": "Image,Metadata,Mensuration",
"defaultMosaicMethod": "Center",
"allowedMosaicMethods": "",
"sortField": "",
"sortValue": null,
"sortAscending": true,
"mosaicOperator": "First",
"defaultCompressionQuality": 75,
"defaultResamplingMethod": "Bilinear",
"maxImageHeight": 4100,
"maxImageWidth": 15000,
"allowRasterFunction": true,
"rasterFunctionInfos": [
{
"name": "None",
"description": "",
"help": ""
}
],
"rasterTypeInfos": [
{
"name": "Raster Dataset",
"description": "Supports all ArcGIS Raster Datasets",
"help": ""
}
],
"mensurationCapabilities": "Basic",
"hasHistograms": true,
"hasColormap": false,
"hasRasterAttributeTable": false,
"minScale": 0,
"maxScale": 0,
"exportTilesAllowed": false,
"supportsStatistics": false,
"supportsAdvancedQueries": false,
"editFieldsInfo": null,
"ownershipBasedAccessControlForRasters": null,
"allowComputeTiePoints": false,
"useStandardizedQueries": true,
"advancedQueryCapabilities": {
"useStandardizedQueries": true,
"supportsStatistics": false,
"supportsOrderBy": false,
"supportsDistinct": false,
"supportsPagination": false
},
"spatialReference": {
"wkid": 32609,
"latestWkid": 32609
}
}