{
 "currentVersion": 11.1,
 "serviceDescription": "Bathymetry/NA151_20230702_ONCseamounts_50m_srf_2",
 "name": "Bathymetry/NA151_20230702_ONCseamounts_50m_srf_2",
 "description": "",
 "extent": {
  "xmin": 386400,
  "ymin": 5251150,
  "xmax": 509650,
  "ymax": 5377450,
  "spatialReference": {
   "wkid": 32609,
   "latestWkid": 32609
  }
 },
 "initialExtent": {
  "xmin": 386400,
  "ymin": 5251150,
  "xmax": 509650,
  "ymax": 5377450,
  "spatialReference": {
   "wkid": 32609,
   "latestWkid": 32609
  }
 },
 "fullExtent": {
  "xmin": 386400,
  "ymin": 5251150,
  "xmax": 509650,
  "ymax": 5377450,
  "spatialReference": {
   "wkid": 32609,
   "latestWkid": 32609
  }
 },
 "sortableFields": "",
 "bandCount": 1,
 "pixelType": "F32",
 "minValues": [],
 "maxValues": [],
 "meanValues": [],
 "stdvValues": [],
 "hasMultidimensions": false,
 "pixelSizeX": 50,
 "pixelSizeY": 50,
 "datasetFormat": "TIFF",
 "uncompressedSize": 24906360,
 "blockWidth": 2465,
 "blockHeight": 1,
 "compressionType": "LZW",
 "bandNames": [
  "Band_1"
 ],
 "allowCopy": true,
 "allowAnalysis": true,
 "itemAccess": false,
 "noDataValue": -9999,
 "noDataValues": [
  -9999
 ],
 "minPixelSize": 0,
 "maxPixelSize": 0,
 "copyrightText": "",
 "serviceDataType": "esriImageServiceDataTypeGeneric",
 "serviceSourceType": "esriImageServiceSourceTypeDataset",
 "objectIdField": "",
 "fields": [],
 "capabilities": "Image,Metadata,Mensuration",
 "defaultMosaicMethod": "Center",
 "allowedMosaicMethods": "",
 "sortField": "",
 "sortValue": null,
 "sortAscending": true,
 "mosaicOperator": "First",
 "defaultCompressionQuality": 75,
 "defaultResamplingMethod": "Bilinear",
 "maxImageHeight": 4100,
 "maxImageWidth": 15000,
 "allowRasterFunction": true,
 "rasterFunctionInfos": [
  {
   "name": "None",
   "description": "",
   "help": ""
  }
 ],
 "rasterTypeInfos": [
  {
   "name": "Raster Dataset",
   "description": "Supports all ArcGIS Raster Datasets",
   "help": ""
  }
 ],
 "mensurationCapabilities": "Basic",
 "hasHistograms": false,
 "hasColormap": false,
 "hasRasterAttributeTable": false,
 "minScale": 0,
 "maxScale": 0,
 "exportTilesAllowed": false,
 "supportsStatistics": false,
 "supportsAdvancedQueries": false,
 "editFieldsInfo": null,
 "ownershipBasedAccessControlForRasters": null,
 "allowComputeTiePoints": false,
 "useStandardizedQueries": true,
 "advancedQueryCapabilities": {
  "useStandardizedQueries": true,
  "supportsStatistics": false,
  "supportsOrderBy": false,
  "supportsDistinct": false,
  "supportsPagination": false
 },
 "spatialReference": {
  "wkid": 32609,
  "latestWkid": 32609
 }
}
