{ "currentVersion": 11.1, "serviceDescription": "
A Kongsberg EM710 mounted on the R/V Falkor was used to capture this bathymetry at 3 m resolution. It was captured in August 2013.<\/SPAN><\/P><\/DIV><\/DIV>",
"name": "Bathymetry/ONC_SOI_FK009_EM710_3MB1",
"description": " A Kongsberg EM710 mounted on the R/V Falkor was used to capture this bathymetry at 3 m resolution. It was captured in August 2013.<\/SPAN><\/P><\/DIV><\/DIV>",
"extent": {
"xmin": 331538.59,
"ymin": 5407203.89,
"xmax": 333659.59,
"ymax": 5409828.89,
"spatialReference": {
"wkid": 32610,
"latestWkid": 32610
}
},
"initialExtent": {
"xmin": 331538.59,
"ymin": 5407203.89,
"xmax": 333659.59,
"ymax": 5409828.89,
"spatialReference": {
"wkid": 32610,
"latestWkid": 32610
}
},
"fullExtent": {
"xmin": 331538.59,
"ymin": 5407203.89,
"xmax": 333659.59,
"ymax": 5409828.89,
"spatialReference": {
"wkid": 32610,
"latestWkid": 32610
}
},
"sortableFields": "",
"bandCount": 1,
"pixelType": "F32",
"minValues": [
-130.14500427246094
],
"maxValues": [
-20.784000396728516
],
"meanValues": [
-92.00795938376075
],
"stdvValues": [
17.369088915634862
],
"hasMultidimensions": false,
"pixelSizeX": 3,
"pixelSizeY": 3,
"datasetFormat": "FGDBR",
"uncompressedSize": 2474500,
"blockWidth": 128,
"blockHeight": 128,
"compressionType": "NONE",
"bandNames": [
"Band_1"
],
"allowCopy": true,
"allowAnalysis": true,
"itemAccess": false,
"minPixelSize": 0,
"maxPixelSize": 0,
"copyrightText": "Ocean Networks Canada, Falkor",
"serviceDataType": "esriImageServiceDataTypeGeneric",
"serviceSourceType": "esriImageServiceSourceTypeDataset",
"objectIdField": "",
"fields": [],
"capabilities": "Image,Metadata,Mensuration",
"defaultMosaicMethod": "Center",
"allowedMosaicMethods": "",
"sortField": "",
"sortValue": null,
"sortAscending": true,
"mosaicOperator": "First",
"defaultCompressionQuality": 75,
"defaultResamplingMethod": "Bilinear",
"maxImageHeight": 4100,
"maxImageWidth": 15000,
"allowRasterFunction": true,
"rasterFunctionInfos": [
{
"name": "None",
"description": "",
"help": ""
}
],
"rasterTypeInfos": [
{
"name": "Raster Dataset",
"description": "Supports all ArcGIS Raster Datasets",
"help": ""
}
],
"mensurationCapabilities": "Basic",
"hasHistograms": true,
"hasColormap": false,
"hasRasterAttributeTable": false,
"minScale": 0,
"maxScale": 0,
"exportTilesAllowed": false,
"supportsStatistics": false,
"supportsAdvancedQueries": false,
"editFieldsInfo": null,
"ownershipBasedAccessControlForRasters": null,
"allowComputeTiePoints": false,
"useStandardizedQueries": true,
"advancedQueryCapabilities": {
"useStandardizedQueries": true,
"supportsStatistics": false,
"supportsOrderBy": false,
"supportsDistinct": false,
"supportsPagination": false
},
"spatialReference": {
"wkid": 32610,
"latestWkid": 32610
}
}