{
 "currentVersion": 11.1,
 "serviceDescription": "This raster dataset contains bathymetric data of Endeavour, gridded at 30m resolution. They were collected using an EM302 Kongsberg sonar onboard the R/V Thompson. The data were were processed by a Contractor on board. The raw data are also available. These data have not been corrected for tides.",
 "name": "Bathymetry/ONC_TN298_Endeavour_wgs84_30m",
 "description": "This raster dataset contains bathymetric data of Endeavour, gridded at 30m resolution. They were collected using an EM302 Kongsberg sonar onboard the R/V Thompson. The data were were processed by a Contractor on board. The raw data are also available. These data have not been corrected for tides.",
 "extent": {
  "xmin": -129.23706169037916,
  "ymin": 47.82070843591649,
  "xmax": -128.93341000609087,
  "ymax": 48.12791140424818,
  "spatialReference": {
   "wkid": 4326,
   "latestWkid": 4326
  }
 },
 "initialExtent": {
  "xmin": -129.23706169037916,
  "ymin": 47.82070843591649,
  "xmax": -128.93341000609087,
  "ymax": 48.12791140424818,
  "spatialReference": {
   "wkid": 4326,
   "latestWkid": 4326
  }
 },
 "fullExtent": {
  "xmin": -129.23706169037916,
  "ymin": 47.82070843591649,
  "xmax": -128.93341000609087,
  "ymax": 48.12791140424818,
  "spatialReference": {
   "wkid": 4326,
   "latestWkid": 4326
  }
 },
 "sortableFields": "",
 "bandCount": 1,
 "pixelType": "F32",
 "minValues": [
  -2647.610107421875
 ],
 "maxValues": [
  -1958.510009765625
 ],
 "meanValues": [
  -2340.6823988859933
 ],
 "stdvValues": [
  116.39764943660538
 ],
 "hasMultidimensions": false,
 "pixelSizeX": 2.71602579864309E-4,
 "pixelSizeY": 2.704251481793082E-4,
 "datasetFormat": "FGDBR",
 "uncompressedSize": 5080192,
 "blockWidth": 128,
 "blockHeight": 128,
 "compressionType": "NONE",
 "bandNames": [
  "Band_1"
 ],
 "allowCopy": true,
 "allowAnalysis": true,
 "itemAccess": false,
 "minPixelSize": 0,
 "maxPixelSize": 0,
 "copyrightText": "Ocean Networks Canada",
 "serviceDataType": "esriImageServiceDataTypeGeneric",
 "serviceSourceType": "esriImageServiceSourceTypeDataset",
 "objectIdField": "",
 "fields": [],
 "capabilities": "Image,Metadata,Mensuration",
 "defaultMosaicMethod": "Center",
 "allowedMosaicMethods": "",
 "sortField": "",
 "sortValue": null,
 "sortAscending": true,
 "mosaicOperator": "First",
 "defaultCompressionQuality": 75,
 "defaultResamplingMethod": "Bilinear",
 "maxImageHeight": 4100,
 "maxImageWidth": 15000,
 "allowRasterFunction": true,
 "rasterFunctionInfos": [
  {
   "name": "None",
   "description": "",
   "help": ""
  }
 ],
 "rasterTypeInfos": [
  {
   "name": "Raster Dataset",
   "description": "Supports all ArcGIS Raster Datasets",
   "help": ""
  }
 ],
 "mensurationCapabilities": "Basic",
 "hasHistograms": true,
 "hasColormap": false,
 "hasRasterAttributeTable": false,
 "minScale": 0,
 "maxScale": 0,
 "exportTilesAllowed": false,
 "supportsStatistics": false,
 "supportsAdvancedQueries": false,
 "editFieldsInfo": null,
 "ownershipBasedAccessControlForRasters": null,
 "allowComputeTiePoints": false,
 "useStandardizedQueries": true,
 "advancedQueryCapabilities": {
  "useStandardizedQueries": true,
  "supportsStatistics": false,
  "supportsOrderBy": false,
  "supportsDistinct": false,
  "supportsPagination": false
 },
 "spatialReference": {
  "wkid": 4326,
  "latestWkid": 4326
 }
}
