{
 "currentVersion": 11.1,
 "serviceDescription": "Bathymetry/ONC_sample_bathymetry_for_storymap",
 "name": "Bathymetry/ONC_sample_bathymetry_for_storymap",
 "description": "",
 "extent": {
  "xmin": 386412.5,
  "ymin": 5251157.5,
  "xmax": 710232.5,
  "ymax": 5433317.5,
  "spatialReference": {
   "wkid": 32609,
   "latestWkid": 32609
  }
 },
 "initialExtent": {
  "xmin": 386412.5,
  "ymin": 5251157.5,
  "xmax": 710232.5,
  "ymax": 5433317.5,
  "spatialReference": {
   "wkid": 32609,
   "latestWkid": 32609
  }
 },
 "fullExtent": {
  "xmin": 386412.5,
  "ymin": 5251157.5,
  "xmax": 710232.5,
  "ymax": 5433317.5,
  "spatialReference": {
   "wkid": 32609,
   "latestWkid": 32609
  }
 },
 "sortableFields": "",
 "bandCount": 1,
 "pixelType": "F32",
 "minValues": [
  -3053.41943359375
 ],
 "maxValues": [
  -154.85206604003906
 ],
 "meanValues": [
  -2232.173395859882
 ],
 "stdvValues": [
  782.2109990956388
 ],
 "hasMultidimensions": false,
 "pixelSizeX": 30,
 "pixelSizeY": 30,
 "datasetFormat": "FGDBR",
 "uncompressedSize": 262164672,
 "blockWidth": 128,
 "blockHeight": 128,
 "compressionType": "LZ77",
 "bandNames": [
  "Band_1"
 ],
 "allowCopy": true,
 "allowAnalysis": true,
 "itemAccess": false,
 "minPixelSize": 0,
 "maxPixelSize": 0,
 "copyrightText": "",
 "serviceDataType": "esriImageServiceDataTypeGeneric",
 "serviceSourceType": "esriImageServiceSourceTypeDataset",
 "objectIdField": "",
 "fields": [],
 "capabilities": "Image,Metadata,Mensuration",
 "defaultMosaicMethod": "Center",
 "allowedMosaicMethods": "",
 "sortField": "",
 "sortValue": null,
 "sortAscending": true,
 "mosaicOperator": "First",
 "defaultCompressionQuality": 75,
 "defaultResamplingMethod": "Bilinear",
 "maxImageHeight": 4100,
 "maxImageWidth": 15000,
 "allowRasterFunction": true,
 "rasterFunctionInfos": [
  {
   "name": "None",
   "description": "",
   "help": ""
  }
 ],
 "rasterTypeInfos": [
  {
   "name": "Raster Dataset",
   "description": "Supports all ArcGIS Raster Datasets",
   "help": ""
  }
 ],
 "mensurationCapabilities": "Basic",
 "hasHistograms": true,
 "hasColormap": false,
 "hasRasterAttributeTable": false,
 "minScale": 0,
 "maxScale": 0,
 "exportTilesAllowed": false,
 "supportsStatistics": false,
 "supportsAdvancedQueries": false,
 "editFieldsInfo": null,
 "ownershipBasedAccessControlForRasters": null,
 "allowComputeTiePoints": false,
 "useStandardizedQueries": true,
 "advancedQueryCapabilities": {
  "useStandardizedQueries": true,
  "supportsStatistics": false,
  "supportsOrderBy": false,
  "supportsDistinct": false,
  "supportsPagination": false
 },
 "spatialReference": {
  "wkid": 32609,
  "latestWkid": 32609
 }
}
