{
 "currentVersion": 11.1,
 "serviceDescription": "Bathymetry/Ov_i05_L02_R00000010_C00000006_tif",
 "name": "Bathymetry/Ov_i05_L02_R00000010_C00000006_tif",
 "description": "",
 "extent": {
  "xmin": 608406.1439323213,
  "ymin": 5291923.827879319,
  "xmax": 754319.7728813062,
  "ymax": 5431080.505300003,
  "spatialReference": {
   "wkid": 32609,
   "latestWkid": 32609
  }
 },
 "initialExtent": {
  "xmin": 608406.1439323213,
  "ymin": 5291923.827879319,
  "xmax": 754319.7728813062,
  "ymax": 5431080.505300003,
  "spatialReference": {
   "wkid": 32609,
   "latestWkid": 32609
  }
 },
 "fullExtent": {
  "xmin": 608406.1439323213,
  "ymin": 5291923.827879319,
  "xmax": 754319.7728813062,
  "ymax": 5431080.505300003,
  "spatialReference": {
   "wkid": 32609,
   "latestWkid": 32609
  }
 },
 "sortableFields": "",
 "bandCount": 2,
 "pixelType": "F32",
 "minValues": [
  -2780.8830566406,
  -2646.3547363281
 ],
 "maxValues": [
  0,
  1000000
 ],
 "meanValues": [
  -1704.3158404026,
  528208.25562943
 ],
 "stdvValues": [
  737.51351394068,
  500166.16473264
 ],
 "hasMultidimensions": false,
 "pixelSizeX": 182.62031157570075,
 "pixelSizeY": 182.62031157570095,
 "datasetFormat": "TIFF",
 "uncompressedSize": 4870704,
 "blockWidth": 128,
 "blockHeight": 128,
 "compressionType": "LZW",
 "bandNames": [
  "Band_1",
  "Band_2"
 ],
 "allowCopy": true,
 "allowAnalysis": true,
 "itemAccess": false,
 "minPixelSize": 0,
 "maxPixelSize": 0,
 "copyrightText": "",
 "serviceDataType": "esriImageServiceDataTypeGeneric",
 "serviceSourceType": "esriImageServiceSourceTypeDataset",
 "objectIdField": "",
 "fields": [],
 "capabilities": "Image,Metadata,Mensuration",
 "defaultMosaicMethod": "Center",
 "allowedMosaicMethods": "",
 "sortField": "",
 "sortValue": null,
 "sortAscending": true,
 "mosaicOperator": "First",
 "defaultCompressionQuality": 75,
 "defaultResamplingMethod": "Bilinear",
 "maxImageHeight": 4100,
 "maxImageWidth": 15000,
 "allowRasterFunction": true,
 "rasterFunctionInfos": [
  {
   "name": "None",
   "description": "",
   "help": ""
  }
 ],
 "rasterTypeInfos": [
  {
   "name": "Raster Dataset",
   "description": "Supports all ArcGIS Raster Datasets",
   "help": ""
  }
 ],
 "mensurationCapabilities": "Basic",
 "hasHistograms": true,
 "hasColormap": false,
 "hasRasterAttributeTable": false,
 "minScale": 0,
 "maxScale": 0,
 "exportTilesAllowed": false,
 "supportsStatistics": false,
 "supportsAdvancedQueries": false,
 "editFieldsInfo": null,
 "ownershipBasedAccessControlForRasters": null,
 "allowComputeTiePoints": false,
 "useStandardizedQueries": true,
 "advancedQueryCapabilities": {
  "useStandardizedQueries": true,
  "supportsStatistics": false,
  "supportsOrderBy": false,
  "supportsDistinct": false,
  "supportsPagination": false
 },
 "spatialReference": {
  "wkid": 32609,
  "latestWkid": 32609
 }
}
