{
 "currentVersion": 11.1,
 "serviceDescription": "Bathymetry/SlumpSurvey_25m_tiff",
 "name": "Bathymetry/SlumpSurvey_25m_tiff",
 "description": "",
 "extent": {
  "xmin": 566337.5,
  "ymin": 5473262.5,
  "xmax": 585737.5,
  "ymax": 5491287.5,
  "spatialReference": {
   "wkid": 32609,
   "latestWkid": 32609
  }
 },
 "initialExtent": {
  "xmin": 566337.5,
  "ymin": 5473262.5,
  "xmax": 585737.5,
  "ymax": 5491287.5,
  "spatialReference": {
   "wkid": 32609,
   "latestWkid": 32609
  }
 },
 "fullExtent": {
  "xmin": 566337.5,
  "ymin": 5473262.5,
  "xmax": 585737.5,
  "ymax": 5491287.5,
  "spatialReference": {
   "wkid": 32609,
   "latestWkid": 32609
  }
 },
 "sortableFields": "",
 "bandCount": 1,
 "pixelType": "F32",
 "minValues": [
  -2456.6860351562
 ],
 "maxValues": [
  -1613.5233154297
 ],
 "meanValues": [
  -2314.468579496
 ],
 "stdvValues": [
  180.99514995624
 ],
 "hasMultidimensions": false,
 "pixelSizeX": 25,
 "pixelSizeY": 25,
 "datasetFormat": "TIFF",
 "uncompressedSize": 2237984,
 "blockWidth": 776,
 "blockHeight": 2,
 "compressionType": "DEFLATE",
 "bandNames": [
  "Depth"
 ],
 "allowCopy": true,
 "allowAnalysis": true,
 "itemAccess": false,
 "noDataValue": 3.4028234663852886E38,
 "noDataValues": [
  3.4028234663852886E38
 ],
 "minPixelSize": 0,
 "maxPixelSize": 0,
 "copyrightText": "",
 "serviceDataType": "esriImageServiceDataTypeGeneric",
 "serviceSourceType": "esriImageServiceSourceTypeDataset",
 "objectIdField": "",
 "fields": [],
 "capabilities": "Image,Metadata,Mensuration",
 "defaultMosaicMethod": "Center",
 "allowedMosaicMethods": "",
 "sortField": "",
 "sortValue": null,
 "sortAscending": true,
 "mosaicOperator": "First",
 "defaultCompressionQuality": 75,
 "defaultResamplingMethod": "Bilinear",
 "maxImageHeight": 4100,
 "maxImageWidth": 15000,
 "allowRasterFunction": true,
 "rasterFunctionInfos": [
  {
   "name": "None",
   "description": "",
   "help": ""
  }
 ],
 "rasterTypeInfos": [
  {
   "name": "Raster Dataset",
   "description": "Supports all ArcGIS Raster Datasets",
   "help": ""
  }
 ],
 "mensurationCapabilities": "Basic",
 "hasHistograms": true,
 "hasColormap": false,
 "hasRasterAttributeTable": false,
 "minScale": 0,
 "maxScale": 0,
 "exportTilesAllowed": false,
 "supportsStatistics": false,
 "supportsAdvancedQueries": false,
 "editFieldsInfo": null,
 "ownershipBasedAccessControlForRasters": null,
 "allowComputeTiePoints": false,
 "useStandardizedQueries": true,
 "advancedQueryCapabilities": {
  "useStandardizedQueries": true,
  "supportsStatistics": false,
  "supportsOrderBy": false,
  "supportsDistinct": false,
  "supportsPagination": false
 },
 "spatialReference": {
  "wkid": 32609,
  "latestWkid": 32609
 }
}
