{ "currentVersion": 11.1, "serviceDescription": "
The data was captured on the Fishing Vessel \"Royal City\" using a Reson SeaBAT 8111 sonar. It was captured in August 2006.<\/SPAN><\/P><\/DIV><\/DIV><\/DIV>",
"name": "Bathymetry/shelf_north_5_mb",
"description": " The data was captured on the Fishing Vessel \"Royal City\" using a Reson SeaBAT 8111 sonar. It was captured in August 2006.<\/SPAN><\/P><\/DIV><\/DIV><\/DIV>",
"extent": {
"xmin": 3978775.125644,
"ymin": 4149058.575689,
"xmax": 4085735.125644,
"ymax": 4165988.575689,
"spatialReference": {"wkt": "PROJCS[\"WGS_1984_Mercator\",GEOGCS[\"GCS_WGS_1984\",DATUM[\"D_WGS_1984\",SPHEROID[\"WGS_1984\",6378137.0,298.257223563]],PRIMEM[\"Greenwich\",0.0],UNIT[\"Degree\",0.0174532925199433]],PROJECTION[\"Mercator\"],PARAMETER[\"False_Easting\",0.0],PARAMETER[\"False_Northing\",0.0],PARAMETER[\"Central_Meridian\",-180.0],PARAMETER[\"Standard_Parallel_1\",48.0],UNIT[\"Meter\",1.0]]"}
},
"initialExtent": {
"xmin": 3978775.125644,
"ymin": 4149058.575689,
"xmax": 4085735.125644,
"ymax": 4165988.575689,
"spatialReference": {"wkt": "PROJCS[\"WGS_1984_Mercator\",GEOGCS[\"GCS_WGS_1984\",DATUM[\"D_WGS_1984\",SPHEROID[\"WGS_1984\",6378137.0,298.257223563]],PRIMEM[\"Greenwich\",0.0],UNIT[\"Degree\",0.0174532925199433]],PROJECTION[\"Mercator\"],PARAMETER[\"False_Easting\",0.0],PARAMETER[\"False_Northing\",0.0],PARAMETER[\"Central_Meridian\",-180.0],PARAMETER[\"Standard_Parallel_1\",48.0],UNIT[\"Meter\",1.0]]"}
},
"fullExtent": {
"xmin": 3978775.125644,
"ymin": 4149058.575689,
"xmax": 4085735.125644,
"ymax": 4165988.575689,
"spatialReference": {"wkt": "PROJCS[\"WGS_1984_Mercator\",GEOGCS[\"GCS_WGS_1984\",DATUM[\"D_WGS_1984\",SPHEROID[\"WGS_1984\",6378137.0,298.257223563]],PRIMEM[\"Greenwich\",0.0],UNIT[\"Degree\",0.0174532925199433]],PROJECTION[\"Mercator\"],PARAMETER[\"False_Easting\",0.0],PARAMETER[\"False_Northing\",0.0],PARAMETER[\"Central_Meridian\",-180.0],PARAMETER[\"Standard_Parallel_1\",48.0],UNIT[\"Meter\",1.0]]"}
},
"sortableFields": "",
"bandCount": 1,
"pixelType": "F32",
"minValues": [
-656.2949829101562
],
"maxValues": [
-47.654998779296875
],
"meanValues": [
-166.79582014913586
],
"stdvValues": [
105.5487873770421
],
"hasMultidimensions": false,
"pixelSizeX": 5,
"pixelSizeY": 5,
"datasetFormat": "FGDBR",
"uncompressedSize": 289733248,
"blockWidth": 128,
"blockHeight": 128,
"compressionType": "NONE",
"bandNames": [
"Band_1"
],
"allowCopy": true,
"allowAnalysis": true,
"itemAccess": false,
"minPixelSize": 0,
"maxPixelSize": 0,
"copyrightText": "Ocean Networks Canada",
"serviceDataType": "esriImageServiceDataTypeGeneric",
"serviceSourceType": "esriImageServiceSourceTypeDataset",
"objectIdField": "",
"fields": [],
"capabilities": "Image,Metadata,Mensuration",
"defaultMosaicMethod": "Center",
"allowedMosaicMethods": "",
"sortField": "",
"sortValue": null,
"sortAscending": true,
"mosaicOperator": "First",
"defaultCompressionQuality": 75,
"defaultResamplingMethod": "Bilinear",
"maxImageHeight": 4100,
"maxImageWidth": 15000,
"allowRasterFunction": true,
"rasterFunctionInfos": [
{
"name": "None",
"description": "",
"help": ""
}
],
"rasterTypeInfos": [
{
"name": "Raster Dataset",
"description": "Supports all ArcGIS Raster Datasets",
"help": ""
}
],
"mensurationCapabilities": "Basic",
"hasHistograms": true,
"hasColormap": false,
"hasRasterAttributeTable": false,
"minScale": 0,
"maxScale": 0,
"exportTilesAllowed": false,
"supportsStatistics": false,
"supportsAdvancedQueries": false,
"editFieldsInfo": null,
"ownershipBasedAccessControlForRasters": null,
"allowComputeTiePoints": false,
"useStandardizedQueries": true,
"advancedQueryCapabilities": {
"useStandardizedQueries": true,
"supportsStatistics": false,
"supportsOrderBy": false,
"supportsDistinct": false,
"supportsPagination": false
},
"spatialReference": {"wkt": "PROJCS[\"WGS_1984_Mercator\",GEOGCS[\"GCS_WGS_1984\",DATUM[\"D_WGS_1984\",SPHEROID[\"WGS_1984\",6378137.0,298.257223563]],PRIMEM[\"Greenwich\",0.0],UNIT[\"Degree\",0.0174532925199433]],PROJECTION[\"Mercator\"],PARAMETER[\"False_Easting\",0.0],PARAMETER[\"False_Northing\",0.0],PARAMETER[\"Central_Meridian\",-180.0],PARAMETER[\"Standard_Parallel_1\",48.0],UNIT[\"Meter\",1.0]]"}
}