<?xml version="1.0" encoding="UTF-8" standalone="no"?>
<metadata>
<idinfo>
<citation>
<citeinfo>
<origin>John Delaney</origin>
<origin>Deborah Kelley</origin>
<pubdate>2005</pubdate>
<title Sync="TRUE">TN183_MiddleValley_EM300_20</title>
<geoform Sync="TRUE">raster digital data</geoform>
<onlink Sync="TRUE">\\L5-NEPTUNE1\F\Neptune\Engineering\2.0 Mapping\2.7 Survey Data\2.7.2_SurveyData-Working\University of Washington\EM300 - (183) Processed\middle</onlink>
<ftname Sync="TRUE">middle</ftname>
</citeinfo>
</citation>
<descript>
<abstract>EM300 Bathymetry from Endeavour Segment, Nootka, and Middle Valley This data set contains data and metadata collected during the VISIONS 2005 Research Cruise, 1 Sept - 4 Oct, on the R/V Thompson, funded by NSF, Keck, University of Washington, and University of Victoria, NEPTUNE Canada.</abstract>
<purpose>These data were collected to provide information about seafloor geomorphology for scientific purposes and to provide and initial cable route survey for NEPTUNE Canada and the NEPTUNE Observatory.</purpose>
<supplinf>Collected by University of Washington, Processed by Mosaic Hydrographic Services</supplinf>
<langdata Sync="TRUE">en</langdata>
</descript>
<timeperd>
<timeinfo>
<rngdates>
<begdate>1 September 2005</begdate>
<enddate>4 October 2005</enddate>
</rngdates>
<sngdate>
<caldate>REQUIRED: The year (and optionally month, or month and day) for which the data set corresponds to the ground.</caldate>
</sngdate>
</timeinfo>
<current>REQUIRED: The basis on which the time period of content information is determined.</current>
</timeperd>
<status>
<progress>Minimal processing only.</progress>
<update>As needed.</update>
</status>
<spdom>
<bounding>
<westbc Sync="TRUE">-129.135200</westbc>
<eastbc Sync="TRUE">-128.463042</eastbc>
<northbc Sync="TRUE">49.400175</northbc>
<southbc Sync="TRUE">47.955612</southbc>
</bounding>
<lboundng>
<leftbc Sync="TRUE">3795803.683881</leftbc>
<rightbc Sync="TRUE">3845963.683881</rightbc>
<bottombc Sync="TRUE">4067627.211065</bottombc>
<topbc Sync="TRUE">4230427.211065</topbc>
</lboundng>
</spdom>
<keywords>
<place>
<placekey>Endeavour Segment</placekey>
</place>
<place>
<placekey>Middle Valley</placekey>
</place>
<place>
<placekey>Nootka</placekey>
</place>
<theme>
<themekey>Marine Geology</themekey>
</theme>
</keywords>
<accconst>
These data cannot be transferred between users without prior permission
from the chief scientists (listed under Originators) or the point of contact.
</accconst>
<useconst>
With prior permission, this data can be used for scientific research and planning purposes.
You may not present or publish any images created with this dataset without prior permission
of the chief scientists or the point of contact. Any images used in presentations or publications
must be credited to the chief scientists and funding agency.
</useconst>
<ptcontac>
<cntinfo>
<cntperp>
<cntper>
Deborah Kelley
John Delaney
</cntper>
<cntorg>University of Washington</cntorg>
</cntperp>
<cntaddr>
<address>
School of Oceanography
University of Washington
Box 357940
</address>
<city>Seattle</city>
<state>WA</state>
<postal>98195-7940</postal>
<country>USA</country>
</cntaddr>
<cntvoice>206-543-9279</cntvoice>
<cntemail>
kelley@ocean.washington.edu
jdelaney@u.washington.edu
</cntemail>
</cntinfo>
</ptcontac>
<datacred>Please refer to use and access constraints for proper data set credit.</datacred>
<native Sync="TRUE">Microsoft Windows XP Version 5.1 (Build 2600) Service Pack 2; ESRI ArcCatalog 9.1.0.722</native>
<natvform Sync="TRUE">Raster Dataset</natvform>
</idinfo>
<dataqual>
<complete>This data has been minimally processed and can not be considered complete.</complete>
<lineage>
<srcinfo>
<srccontr>Data collected with the EM300 system on the R/V Thompson.</srccontr>
</srcinfo>
<procstep>
<procdesc>
Portions of the Endeavour Segment, Nootka, and Middle Valley were mapped during
the 2005 VISIONS Research Cruise. This area was mapped using a Kongsberg Simrad
EM300 Multibeam System hull mounted to R/V Thompson.
1. Bathymetry data processed using MB-System to concatenate raw files, do a preliminary
clean, and create a gridded ascii file.
2. In ArcToolbox, ASCII to Raster is used to create a raster dataset.
3. In ArcToolbox, Define Projection is used to add a projection to the dataset.
</procdesc>
<procdate>September - October 2005</procdate>
<proccont>
<cntinfo>
<cntperp>
<cntper>Deborah Glickson</cntper>
<cntorg>University of Washington</cntorg>
</cntperp>
<cntaddr>
<address>
School of Oceanography
University of Washington
Box 357940
</address>
<city>Seattle</city>
<state>WA</state>
<postal>98195-7940</postal>
<country>USA</country>
</cntaddr>
<cntvoice>206-543-4354</cntvoice>
<cntemail>glickson@u.washington.edu</cntemail>
</cntinfo>
</proccont>
</procstep>
<procstep>
<procdesc>Metadata imported.</procdesc>
<srcused>C:\DOCUME~1\ckatnick\LOCALS~1\Temp\xml42.tmp</srcused>
</procstep>
<procstep>
<procdesc Sync="TRUE">Metadata imported.</procdesc>
<srcused Sync="TRUE">C:\DOCUME~1\ckatnick\LOCALS~1\Temp\xml43.tmp</srcused>
<date Sync="TRUE">20060426</date>
<time Sync="TRUE">09151900</time>
</procstep>
</lineage>
</dataqual>
<spdoinfo>
<direct Sync="TRUE">Raster</direct>
<rastinfo>
<rasttype Sync="TRUE">Grid Cell</rasttype>
<rowcount Sync="TRUE">8140</rowcount>
<rowcount Sync="TRUE">8140</rowcount>
<colcount Sync="TRUE">2508</colcount>
<colcount Sync="TRUE">2508</colcount>
<vrtcount Sync="TRUE">1</vrtcount>
<rastxsz Sync="TRUE">20.000000</rastxsz>
<rastysz Sync="TRUE">20.000000</rastysz>
<rastbpp Sync="TRUE">32</rastbpp>
<rastorig Sync="TRUE">Upper Left</rastorig>
<rastcmap Sync="TRUE">FALSE</rastcmap>
<rastcomp Sync="TRUE">Default</rastcomp>
<rastband Sync="TRUE">1</rastband>
<rastdtyp Sync="TRUE">matrix values</rastdtyp>
<rastplyr Sync="TRUE">TRUE</rastplyr>
<rastifor Sync="TRUE">ESRI GRID</rastifor>
</rastinfo>
</spdoinfo>
<spref>
<horizsys>
<planar>
<planci>
<plance Sync="TRUE">row and column</plance>
<coordrep>
<absres Sync="TRUE">20.000000</absres>
<ordres Sync="TRUE">20.000000</ordres>
</coordrep>
<plandu Sync="TRUE">meters</plandu>
</planci>
</planar>
<geodetic>
<horizdn Sync="TRUE">D_WGS_1984</horizdn>
<ellips Sync="TRUE">WGS_1984</ellips>
<semiaxis Sync="TRUE">6378137.000000</semiaxis>
<denflat Sync="TRUE">298.257224</denflat>
</geodetic>
<cordsysn>
<geogcsn Sync="TRUE">GCS_WGS_1984</geogcsn>
<projcsn Sync="TRUE">WGS_1984_Mercator</projcsn>
</cordsysn>
</horizsys>
</spref>
<eainfo>
<detailed>
<enttyp>
<enttypl>HillSha_neah1</enttypl>
</enttyp>
<attr>
<attrlabl>ObjectID</attrlabl>
<attrdef>Internal feature number.</attrdef>
<attrdefs>ESRI</attrdefs>
<attrdomv>
<udom>Sequential unique whole numbers that are automatically generated.</udom>
</attrdomv>
</attr>
<attr>
<attrlabl>Value</attrlabl>
</attr>
<attr>
<attrlabl>Count</attrlabl>
</attr>
</detailed>
</eainfo>
<distinfo>
<resdesc>Downloadable Data</resdesc>
<stdorder>
<digform>
<digtinfo>
<transize Sync="TRUE">79.602</transize>
<dssize Sync="TRUE">79.602</dssize>
</digtinfo>
</digform>
</stdorder>
</distinfo>
<metainfo>
<metd Sync="TRUE">20060426</metd>
<metc>
<cntinfo>
<cntperp>
<cntper>Deborah Glickson</cntper>
<cntorg>University of Washington</cntorg>
</cntperp>
<cntaddr>
<addrtype>REQUIRED: The mailing and/or physical address for the organization or individual.</addrtype>
<address>
School of Oceanography
University of Washington
Box 357940
</address>
<city>Seattle</city>
<state>WA</state>
<postal>98103</postal>
<country>USA</country>
</cntaddr>
<cntvoice>206-543-4354</cntvoice>
<cntemail>glickson@u.washington.edu</cntemail>
<cntorgp>
<cntper>REQUIRED: The person responsible for the metadata information.</cntper>
<cntorg>REQUIRED: The organization responsible for the metadata information.</cntorg>
</cntorgp>
</cntinfo>
</metc>
<metstdn Sync="TRUE">FGDC Content Standards for Digital Geospatial Metadata</metstdn>
<metstdv Sync="TRUE">FGDC-STD-001-1998</metstdv>
<mettc Sync="TRUE">local time</mettc>
<metextns>
<onlink>http://www.esri.com/metadata/esriprof80.html</onlink>
<metprof>ESRI Metadata Profile</metprof>
</metextns>
<langmeta Sync="TRUE">en</langmeta>
</metainfo>
<Esri>
<CreaDate>20220322</CreaDate>
<CreaTime>15484300</CreaTime>
<SyncOnce>FALSE</SyncOnce>
<SyncDate>20220325</SyncDate>
<SyncTime>13565000</SyncTime>
<ModDate>20220329</ModDate>
<ModTime>11554300</ModTime>
<DataProperties>
<itemProps>
<itemName Sync="TRUE">middle</itemName>
<itemLocation>
<linkage Sync="TRUE">file://E:\BathyDB\Middle Valley Bathymetry\middle</linkage>
<protocol Sync="TRUE">Local Area Network</protocol>
</itemLocation>
<nativeExtBox>
<westBL Sync="TRUE">3795803.683881</westBL>
<eastBL Sync="TRUE">3845963.683881</eastBL>
<southBL Sync="TRUE">4067627.211065</southBL>
<northBL Sync="TRUE">4230427.211065</northBL>
<exTypeCode Sync="TRUE">1</exTypeCode>
</nativeExtBox>
<imsContentType export="False">002</imsContentType>
</itemProps>
<coordRef>
<type Sync="TRUE">Projected</type>
<geogcsn Sync="TRUE">GCS_WGS_1984</geogcsn>
<csUnits Sync="TRUE">Linear Unit: Meter (1.000000)</csUnits>
<projcsn Sync="TRUE">WGS_1984_Mercator</projcsn>
<peXml Sync="TRUE">&lt;ProjectedCoordinateSystem xsi:type='typens:ProjectedCoordinateSystem' xmlns:xsi='http://www.w3.org/2001/XMLSchema-instance' xmlns:xs='http://www.w3.org/2001/XMLSchema' xmlns:typens='http://www.esri.com/schemas/ArcGIS/10.8'&gt;&lt;WKT&gt;PROJCS[&amp;quot;WGS_1984_Mercator&amp;quot;,GEOGCS[&amp;quot;GCS_WGS_1984&amp;quot;,DATUM[&amp;quot;D_WGS_1984&amp;quot;,SPHEROID[&amp;quot;WGS_1984&amp;quot;,6378137.0,298.257223563]],PRIMEM[&amp;quot;Greenwich&amp;quot;,0.0],UNIT[&amp;quot;Degree&amp;quot;,0.0174532925199433]],PROJECTION[&amp;quot;Mercator&amp;quot;],PARAMETER[&amp;quot;False_Easting&amp;quot;,0.0],PARAMETER[&amp;quot;False_Northing&amp;quot;,0.0],PARAMETER[&amp;quot;Central_Meridian&amp;quot;,-180.0],PARAMETER[&amp;quot;Standard_Parallel_1&amp;quot;,48.0],UNIT[&amp;quot;Meter&amp;quot;,1.0]]&lt;/WKT&gt;&lt;XOrigin&gt;-13432700&lt;/XOrigin&gt;&lt;YOrigin&gt;-20244100&lt;/YOrigin&gt;&lt;XYScale&gt;222464798.50279811&lt;/XYScale&gt;&lt;ZOrigin&gt;-100000&lt;/ZOrigin&gt;&lt;ZScale&gt;10000&lt;/ZScale&gt;&lt;MOrigin&gt;-100000&lt;/MOrigin&gt;&lt;MScale&gt;10000&lt;/MScale&gt;&lt;XYTolerance&gt;0.001&lt;/XYTolerance&gt;&lt;ZTolerance&gt;0.001&lt;/ZTolerance&gt;&lt;MTolerance&gt;0.001&lt;/MTolerance&gt;&lt;HighPrecision&gt;true&lt;/HighPrecision&gt;&lt;/ProjectedCoordinateSystem&gt;</peXml>
</coordRef>
<RasterProperties>
<General>
<PixelDepth Sync="TRUE">32</PixelDepth>
<HasColormap Sync="TRUE">FALSE</HasColormap>
<CompressionType Sync="TRUE">RLE</CompressionType>
<NumBands Sync="TRUE">1</NumBands>
<Format Sync="TRUE">GRID</Format>
<HasPyramids Sync="TRUE">TRUE</HasPyramids>
<SourceType Sync="TRUE">continuous</SourceType>
<PixelType Sync="TRUE">floating point</PixelType>
<NoDataValue Sync="TRUE">-3.4028235e+38</NoDataValue>
</General>
</RasterProperties>
<copyHistory>
<copy date="20220322" dest="\\synstor4.onc.uvic.ca\gis\BathyDB\Middle Valley Bathymetry\middle" source="E:\Projects\20160712_MiddleValleyBathy\EM300 - (183) Processed\middle" time="15484300"/>
</copyHistory>
</DataProperties>
<ArcGISstyle>North American Profile of ISO19115 2003</ArcGISstyle>
<ArcGISFormat>1.0</ArcGISFormat>
<scaleRange>
<minScale>150000000</minScale>
<maxScale>5000</maxScale>
</scaleRange>
<ArcGISProfile>ISO19115_3</ArcGISProfile>
</Esri>
<mdLang>
<languageCode value="eng"/>
<countryCode Sync="TRUE" value="CAN"/>
</mdLang>
<mdChar>
<CharSetCd value="004"/>
</mdChar>
<mdHrLv>
<ScopeCd value="005"/>
</mdHrLv>
<mdContact>
<rpIndName>Deborah Glickson</rpIndName>
<rpOrgName>University of Washington</rpOrgName>
<rpCntInfo>
<cntPhone>
<voiceNum>206-543-4354</voiceNum>
</cntPhone>
<cntAddress>
<delPoint>School of Oceanography University of Washington Box 357940</delPoint>
<city>Seattle</city>
<adminArea>WA</adminArea>
<postCode>98103</postCode>
<country>US</country>
<eMailAdd>glickson@u.washington.edu</eMailAdd>
</cntAddress>
</rpCntInfo>
<role>
<RoleCd value="007"/>
</role>
</mdContact>
<mdStanName>ArcGIS Metadata</mdStanName>
<mdStanVer>1.0</mdStanVer>
<distInfo>
<distFormat>
<formatName Sync="TRUE">Raster Dataset</formatName>
</distFormat>
</distInfo>
<dataIdInfo>
<idCitation>
<date>
<pubDate>2005-01-01T00:00:00</pubDate>
</date>
<citRespParty>
<rpOrgName>Deborah Kelley</rpOrgName>
<role>
<RoleCd value="006"/>
</role>
</citRespParty>
<citRespParty>
<rpOrgName>John Delaney</rpOrgName>
<role>
<RoleCd value="006"/>
</role>
</citRespParty>
<presForm>
<PresFormCd Sync="TRUE" value="005"/>
</presForm>
<resTitle Sync="FALSE">TN183_MiddleValley_EM300_20</resTitle>
</idCitation>
<idAbs>&lt;DIV STYLE="text-align:Left;"&gt;&lt;DIV&gt;&lt;DIV&gt;&lt;P&gt;&lt;SPAN&gt;EM300 Bathymetry from Middle Valley&lt;/SPAN&gt;&lt;SPAN&gt;.&lt;/SPAN&gt;&lt;SPAN&gt; This data set contains data and metadata collected during the VISIONS 2005 Research Cruise, 1 Sept - 4 Oct, on the R/V Thompson, funded by NSF, Keck, University of Washington, and University of Victoria, NEPTUNE Canada.&lt;/SPAN&gt;&lt;/P&gt;&lt;/DIV&gt;&lt;/DIV&gt;&lt;/DIV&gt;</idAbs>
<idPurp>This data were collected to provide information about seafloor geomorphology for scientific purposes and to provide and initial cable route survey for NEPTUNE Canada and the NEPTUNE Observatory.</idPurp>
<idCredit>Please refer to use and access constraints for proper data set credit.</idCredit>
<idPoC>
<rpIndName>Deborah Kelley John Delaney</rpIndName>
<rpOrgName>University of Washington</rpOrgName>
<rpCntInfo>
<cntPhone>
<voiceNum tddtty="">206-543-9279</voiceNum>
</cntPhone>
<cntAddress addressType="">
<delPoint>School of Oceanography University of Washington Box 357940</delPoint>
<city>Seattle</city>
<adminArea>WA</adminArea>
<postCode>98195-7940</postCode>
<country>US</country>
<eMailAdd>kelley@ocean.washington.edu jdelaney@u.washington.edu</eMailAdd>
</cntAddress>
</rpCntInfo>
<role>
<RoleCd value="007"/>
</role>
</idPoC>
<placeKeys>
<keyword>Endeavour Segment</keyword>
</placeKeys>
<placeKeys>
<keyword>Middle Valley</keyword>
</placeKeys>
<themeKeys>
<keyword>Marine Geology</keyword>
</themeKeys>
<searchKeys>
<keyword>Marine Geology</keyword>
<keyword>Middle Valley</keyword>
</searchKeys>
<resConst>
<Consts>
<useLimit>&lt;DIV STYLE="text-align:Left;"&gt;&lt;DIV&gt;&lt;DIV&gt;&lt;P&gt;&lt;SPAN&gt;This data can be freely used. &lt;/SPAN&gt;&lt;SPAN&gt;Any images used in presentations or publications must be credited to the chief scientists and funding agency.&lt;/SPAN&gt;&lt;/P&gt;&lt;/DIV&gt;&lt;/DIV&gt;&lt;/DIV&gt;</useLimit>
</Consts>
</resConst>
<dataLang>
<languageCode value="eng"/>
<countryCode Sync="TRUE" value="CAN"/>
</dataLang>
<dataExt>
<tempEle>
<TempExtent>
<exTemp>
<TM_Period>
<tmBegin date="1 September 2005"/>
<tmEnd date="4 October 2005"/>
</TM_Period>
</exTemp>
</TempExtent>
</tempEle>
</dataExt>
<suppInfo>Collected by University of Washington, Processed by Mosaic Hydrographic Services</suppInfo>
<envirDesc Sync="TRUE"> Version 6.2 (Build 9200) ; Esri ArcGIS 10.8.0.12790</envirDesc>
<spatRpType>
<SpatRepTypCd Sync="TRUE" value="002"/>
</spatRpType>
<dataExt>
<geoEle>
<GeoBndBox esriExtentType="search">
<exTypeCode Sync="TRUE">1</exTypeCode>
<westBL Sync="TRUE">-129.135200</westBL>
<eastBL Sync="TRUE">-128.463042</eastBL>
<northBL Sync="TRUE">49.400175</northBL>
<southBL Sync="TRUE">47.955612</southBL>
</GeoBndBox>
</geoEle>
</dataExt>
<dataChar>
<CharSetCd value="004"/>
</dataChar>
<tpCat>
<TopicCatCd value="008"/>
</tpCat>
</dataIdInfo>
<dqInfo>
<dqScope>
<scpLvl>
<ScopeCd value="005"/>
</scpLvl>
</dqScope>
<report dimension="" type="DQCompOm">
<measDesc>This data has been minimally processed and can not be considered complete.</measDesc>
</report>
<dataLineage>
<prcStep>
<stepDesc>Portions of the Endeavour Segment, Nootka, and Middle Valley were mapped during the 2005 VISIONS Research Cruise. This area was mapped using a Kongsberg Simrad EM300 Multibeam System hull mounted to R/V Thompson. 1. Bathymetry data processed using MB-System to concatenate raw files, do a preliminary clean, and create a gridded ascii file. 2. In ArcToolbox, ASCII to Raster is used to create a raster dataset. 3. In ArcToolbox, Define Projection is used to add a projection to the dataset.</stepDesc>
<stepProc>
<rpIndName>Deborah Glickson</rpIndName>
<rpOrgName>University of Washington</rpOrgName>
<rpCntInfo>
<cntPhone>
<voiceNum>206-543-4354</voiceNum>
</cntPhone>
<cntAddress>
<delPoint>School of Oceanography University of Washington Box 357940</delPoint>
<city>Seattle</city>
<adminArea>WA</adminArea>
<postCode>98195-7940</postCode>
<country>US</country>
<eMailAdd>glickson@u.washington.edu</eMailAdd>
</cntAddress>
</rpCntInfo>
<role>
<RoleCd value="009"/>
</role>
</stepProc>
</prcStep>
<dataSource type="">
<srcDesc>Data collected with the EM300 system on the R/V Thompson.</srcDesc>
</dataSource>
</dataLineage>
</dqInfo>
<mdHrLvName Sync="TRUE">dataset</mdHrLvName>
<refSysInfo>
<RefSystem dimension="">
<refSysID>
<identCode Sync="TRUE" code="0"/>
</refSysID>
</RefSystem>
</refSysInfo>
<spatRepInfo>
<Georect>
<cellGeo>
<CellGeoCd Sync="TRUE" value="002"/>
</cellGeo>
<numDims Sync="TRUE">2</numDims>
<tranParaAv Sync="TRUE">1</tranParaAv>
<chkPtAv Sync="TRUE">0</chkPtAv>
<cornerPts>
<pos Sync="TRUE">3795803.683881 4067627.211065</pos>
</cornerPts>
<cornerPts>
<pos Sync="TRUE">3795803.683881 4230427.211065</pos>
</cornerPts>
<cornerPts>
<pos Sync="TRUE">3845963.683881 4230427.211065</pos>
</cornerPts>
<cornerPts>
<pos Sync="TRUE">3845963.683881 4067627.211065</pos>
</cornerPts>
<centerPt>
<pos Sync="TRUE">3820883.683881 4149027.211065</pos>
</centerPt>
<axisDimension type="002">
<dimSize Sync="TRUE">2508</dimSize>
<dimResol>
<value Sync="TRUE" uom="m">20.000000</value>
</dimResol>
</axisDimension>
<axisDimension type="001">
<dimSize Sync="TRUE">8140</dimSize>
<dimResol>
<value Sync="TRUE" uom="m">20.000000</value>
</dimResol>
</axisDimension>
<ptInPixel>
<PixOrientCd Sync="TRUE" value="001"/>
</ptInPixel>
</Georect>
</spatRepInfo>
<contInfo>
<ImgDesc>
<contentTyp>
<ContentTypCd Sync="TRUE" value="003"/>
</contentTyp>
<covDim>
<Band>
<dimDescrp Sync="TRUE">middle</dimDescrp>
<maxVal Sync="TRUE">-1829.913940</maxVal>
<minVal Sync="TRUE">-2586.239014</minVal>
<bitsPerVal Sync="TRUE">32</bitsPerVal>
<valUnit>
<UOM gmlID="" type="length"/>
</valUnit>
</Band>
</covDim>
<trianInd>False</trianInd>
<radCalDatAv>False</radCalDatAv>
<camCalInAv>False</camCalInAv>
<filmDistInAv>False</filmDistInAv>
<lensDistInAv>False</lensDistInAv>
</ImgDesc>
</contInfo>
<mdDateSt Sync="TRUE">20220329</mdDateSt>
</metadata>
