{
 "currentVersion": 11.1,
 "serviceDescription": "DFO_MPA/TN183_MiddleValley_EM300_20",
 "name": "DFO_MPA/TN183_MiddleValley_EM300_20",
 "description": "",
 "extent": {
  "xmin": 3795803.683881,
  "ymin": 4067627.211065,
  "xmax": 3845963.683881,
  "ymax": 4230427.211065,
  "spatialReference": {
   "wkt": "PROJCS[\"WGS_1984_Mercator\",GEOGCS[\"GCS_WGS_1984\",DATUM[\"D_WGS_1984\",SPHEROID[\"WGS_1984\",6378137.0,298.257223563]],PRIMEM[\"Greenwich\",0.0],UNIT[\"Degree\",0.0174532925199433]],PROJECTION[\"Mercator\"],PARAMETER[\"False_Easting\",0.0],PARAMETER[\"False_Northing\",0.0],PARAMETER[\"Central_Meridian\",-180.0],PARAMETER[\"Standard_Parallel_1\",48.0],UNIT[\"Meter\",1.0]]"
  }
 },
 "initialExtent": {
  "xmin": 3795803.683881,
  "ymin": 4067627.211065,
  "xmax": 3845963.683881,
  "ymax": 4230427.211065,
  "spatialReference": {
   "wkt": "PROJCS[\"WGS_1984_Mercator\",GEOGCS[\"GCS_WGS_1984\",DATUM[\"D_WGS_1984\",SPHEROID[\"WGS_1984\",6378137.0,298.257223563]],PRIMEM[\"Greenwich\",0.0],UNIT[\"Degree\",0.0174532925199433]],PROJECTION[\"Mercator\"],PARAMETER[\"False_Easting\",0.0],PARAMETER[\"False_Northing\",0.0],PARAMETER[\"Central_Meridian\",-180.0],PARAMETER[\"Standard_Parallel_1\",48.0],UNIT[\"Meter\",1.0]]"
  }
 },
 "fullExtent": {
  "xmin": 3795803.683881,
  "ymin": 4067627.211065,
  "xmax": 3845963.683881,
  "ymax": 4230427.211065,
  "spatialReference": {
   "wkt": "PROJCS[\"WGS_1984_Mercator\",GEOGCS[\"GCS_WGS_1984\",DATUM[\"D_WGS_1984\",SPHEROID[\"WGS_1984\",6378137.0,298.257223563]],PRIMEM[\"Greenwich\",0.0],UNIT[\"Degree\",0.0174532925199433]],PROJECTION[\"Mercator\"],PARAMETER[\"False_Easting\",0.0],PARAMETER[\"False_Northing\",0.0],PARAMETER[\"Central_Meridian\",-180.0],PARAMETER[\"Standard_Parallel_1\",48.0],UNIT[\"Meter\",1.0]]"
  }
 },
 "sortableFields": "",
 "bandCount": 1,
 "pixelType": "F32",
 "minValues": [
  -2586.239013671875
 ],
 "maxValues": [
  -1829.9139404296875
 ],
 "meanValues": [
  -2404.5479954032544
 ],
 "stdvValues": [
  133.33957919010308
 ],
 "hasMultidimensions": false,
 "pixelSizeX": 20,
 "pixelSizeY": 20,
 "datasetFormat": "GRID",
 "uncompressedSize": 81660480,
 "blockWidth": 512,
 "blockHeight": 4,
 "compressionType": "RLE",
 "bandNames": [
  "middle"
 ],
 "allowCopy": true,
 "allowAnalysis": true,
 "itemAccess": false,
 "noDataValue": -3.4028234663852886E38,
 "noDataValues": [
  -3.4028234663852886E38
 ],
 "minPixelSize": 0,
 "maxPixelSize": 0,
 "copyrightText": "",
 "serviceDataType": "esriImageServiceDataTypeGeneric",
 "serviceSourceType": "esriImageServiceSourceTypeDataset",
 "objectIdField": "",
 "fields": [],
 "capabilities": "Image,Metadata,Mensuration",
 "defaultMosaicMethod": "Center",
 "allowedMosaicMethods": "",
 "sortField": "",
 "sortValue": null,
 "sortAscending": true,
 "mosaicOperator": "First",
 "defaultCompressionQuality": 75,
 "defaultResamplingMethod": "Bilinear",
 "maxImageHeight": 4100,
 "maxImageWidth": 15000,
 "allowRasterFunction": true,
 "rasterFunctionInfos": [
  {
   "name": "None",
   "description": "",
   "help": ""
  }
 ],
 "rasterTypeInfos": [
  {
   "name": "Raster Dataset",
   "description": "Supports all ArcGIS Raster Datasets",
   "help": ""
  }
 ],
 "mensurationCapabilities": "Basic",
 "hasHistograms": true,
 "hasColormap": false,
 "hasRasterAttributeTable": false,
 "minScale": 0,
 "maxScale": 0,
 "exportTilesAllowed": false,
 "supportsStatistics": false,
 "supportsAdvancedQueries": false,
 "editFieldsInfo": null,
 "ownershipBasedAccessControlForRasters": null,
 "allowComputeTiePoints": false,
 "useStandardizedQueries": true,
 "advancedQueryCapabilities": {
  "useStandardizedQueries": true,
  "supportsStatistics": false,
  "supportsOrderBy": false,
  "supportsDistinct": false,
  "supportsPagination": false
 },
 "spatialReference": {
  "wkt": "PROJCS[\"WGS_1984_Mercator\",GEOGCS[\"GCS_WGS_1984\",DATUM[\"D_WGS_1984\",SPHEROID[\"WGS_1984\",6378137.0,298.257223563]],PRIMEM[\"Greenwich\",0.0],UNIT[\"Degree\",0.0174532925199433]],PROJECTION[\"Mercator\"],PARAMETER[\"False_Easting\",0.0],PARAMETER[\"False_Northing\",0.0],PARAMETER[\"Central_Meridian\",-180.0],PARAMETER[\"Standard_Parallel_1\",48.0],UNIT[\"Meter\",1.0]]"
 }
}
