{
 "currentVersion": 11.1,
 "serviceDescription": "TsunamiDEM/Kitimat_10m_20251010_tif",
 "name": "TsunamiDEM/Kitimat_10m_20251010_tif",
 "description": "",
 "extent": {
  "xmin": -129.04806204470302,
  "ymin": 53.64988307753541,
  "xmax": -128.2409235670208,
  "ymax": 54.127229186373846,
  "spatialReference": {
   "wkid": 4326,
   "latestWkid": 4326
  }
 },
 "initialExtent": {
  "xmin": -129.04806204470302,
  "ymin": 53.64988307753541,
  "xmax": -128.2409235670208,
  "ymax": 54.127229186373846,
  "spatialReference": {
   "wkid": 4326,
   "latestWkid": 4326
  }
 },
 "fullExtent": {
  "xmin": -129.04806204470302,
  "ymin": 53.64988307753541,
  "xmax": -128.2409235670208,
  "ymax": 54.127229186373846,
  "spatialReference": {
   "wkid": 4326,
   "latestWkid": 4326
  }
 },
 "sortableFields": "",
 "bandCount": 1,
 "pixelType": "F32",
 "minValues": [
  -387.1328125
 ],
 "maxValues": [
  1957.015625
 ],
 "meanValues": [
  571.7846763086
 ],
 "stdvValues": [
  490.66261794209
 ],
 "hasMultidimensions": false,
 "pixelSizeX": 1.5208940600758053E-4,
 "pixelSizeY": 8.984492919978156E-5,
 "datasetFormat": "TIFF",
 "uncompressedSize": 112784364,
 "blockWidth": 256,
 "blockHeight": 256,
 "compressionType": "DEFLATE",
 "bandNames": [
  "Band_1"
 ],
 "allowCopy": true,
 "allowAnalysis": true,
 "itemAccess": false,
 "noDataValue": "NaN",
 "noDataValues": [
  "NaN"
 ],
 "minPixelSize": 0,
 "maxPixelSize": 0,
 "copyrightText": "",
 "serviceDataType": "esriImageServiceDataTypeGeneric",
 "serviceSourceType": "esriImageServiceSourceTypeDataset",
 "objectIdField": "",
 "fields": [],
 "capabilities": "Image,Metadata,Mensuration",
 "defaultMosaicMethod": "Center",
 "allowedMosaicMethods": "",
 "sortField": "",
 "sortValue": null,
 "sortAscending": true,
 "mosaicOperator": "First",
 "defaultCompressionQuality": 75,
 "defaultResamplingMethod": "Bilinear",
 "maxImageHeight": 4100,
 "maxImageWidth": 15000,
 "allowRasterFunction": true,
 "rasterFunctionInfos": [
  {
   "name": "None",
   "description": "",
   "help": ""
  }
 ],
 "rasterTypeInfos": [
  {
   "name": "Raster Dataset",
   "description": "Supports all ArcGIS Raster Datasets",
   "help": ""
  }
 ],
 "mensurationCapabilities": "Basic",
 "hasHistograms": false,
 "hasColormap": false,
 "hasRasterAttributeTable": false,
 "minScale": 0,
 "maxScale": 0,
 "exportTilesAllowed": false,
 "supportsStatistics": false,
 "supportsAdvancedQueries": false,
 "editFieldsInfo": null,
 "ownershipBasedAccessControlForRasters": null,
 "allowComputeTiePoints": false,
 "useStandardizedQueries": true,
 "advancedQueryCapabilities": {
  "useStandardizedQueries": true,
  "supportsStatistics": false,
  "supportsOrderBy": false,
  "supportsDistinct": false,
  "supportsPagination": false
 },
 "spatialReference": {
  "wkid": 4326,
  "latestWkid": 4326
 }
}
