View In:
ArcGIS JavaScript
ArcGIS Online Map Viewer
ArcGIS Earth
Service Description: Bathymetry/20140325_FK009EM302_Processed_WGS84_25_tif
Name: Bathymetry/20140325_FK009EM302_Processed_WGS84_25_tif
Description:
Single Fused Map Cache: false
Extent:
XMin: -126.8318565174
YMin: 48.03247212145122
XMax: -125.30834851181417
YMax: 48.77307878925814
Spatial Reference: 4326
(4326)
Initial Extent:
XMin: -126.8318565174
YMin: 48.03247212145122
XMax: -125.30834851181417
YMax: 48.77307878925814
Spatial Reference: 4326
(4326)
Full Extent:
XMin: -126.8318565174
YMin: 48.03247212145122
XMax: -125.30834851181417
YMax: 48.77307878925814
Spatial Reference: 4326
(4326)
Pixel Size X: 2.249716487870385E-4
Pixel Size Y: 2.2497164878703595E-4
Band Count: 1
Pixel Type: F32
RasterFunction Infos: {"rasterFunctionInfos": [{
"name": "None",
"description": "",
"help": ""
}]}
Mensuration Capabilities: Basic
Has Histograms: true
Has Colormap: false
Has Multi Dimensions : false
Rendering Rule:
Min Scale: 0
Max Scale: 0
Copyright Text:
Service Data Type: esriImageServiceDataTypeGeneric
Min Values: -2474.6730957031
Max Values: -57.669998168945
Mean Values: -1283.541984333
Standard Deviation Values: 521.47130965794
Object ID Field:
Fields:
None
Default Mosaic Method: Center
Allowed Mosaic Methods:
SortField:
SortValue: null
Mosaic Operator: First
Default Compression Quality: 75
Default Resampling Method: Bilinear
Max Record Count: null
Max Image Height: 4100
Max Image Width: 15000
Max Download Image Count: null
Max Mosaic Image Count: null
Allow Raster Function: true
Allow Copy: true
Allow Analysis: true
Allow Compute TiePoints: false
Supports Statistics: false
Supports Advanced Queries: false
Use StandardizedQueries: true
Raster Type Infos:
Name: Raster Dataset
Description: Supports all ArcGIS Raster Datasets
Help:
Has Raster Attribute Table: false
Edit Fields Info: null
Ownership Based AccessControl For Rasters: null
Child Resources:
Info
Histograms
Statistics
Key Properties
Legend
Raster Function Infos
Supported Operations:
Export Image
Identify
Measure
Compute Histograms
Compute Statistics Histograms
Get Samples
Compute Class Statistics
Query Boundary
Compute Pixel Location
Compute Angles
Validate
Project