View In:
ArcGIS JavaScript
ArcGIS Online Map Viewer
ArcGIS Earth
Service Description: Bathymetry/CHS_GeorgiaBasin_5MB
Name: Bathymetry/CHS_GeorgiaBasin_5MB
Description:
Single Fused Map Cache: false
Extent:
XMin: 376828.9899537695
YMin: 5337980.846845114
XMax: 599708.9899537695
YMax: 5489135.846845114
Spatial Reference: 32610
(32610)
Initial Extent:
XMin: 376828.9899537695
YMin: 5337980.846845114
XMax: 599708.9899537695
YMax: 5489135.846845114
Spatial Reference: 32610
(32610)
Full Extent:
XMin: 376828.9899537695
YMin: 5337980.846845114
XMax: 599708.9899537695
YMax: 5489135.846845114
Spatial Reference: 32610
(32610)
Pixel Size X: 5.0
Pixel Size Y: 5.0
Band Count: 1
Pixel Type: F32
RasterFunction Infos: {"rasterFunctionInfos": [{
"name": "None",
"description": "",
"help": ""
}]}
Mensuration Capabilities: Basic
Has Histograms: true
Has Colormap: false
Has Multi Dimensions : false
Rendering Rule:
Min Scale: 0
Max Scale: 0
Copyright Text:
Service Data Type: esriImageServiceDataTypeGeneric
Min Values: -529.0850219726562
Max Values: 1.9600000381469727
Mean Values: -161.64607127644328
Standard Deviation Values: 101.9014881906534
Object ID Field:
Fields:
None
Default Mosaic Method: Center
Allowed Mosaic Methods:
SortField:
SortValue: null
Mosaic Operator: First
Default Compression Quality: 75
Default Resampling Method: Bilinear
Max Record Count: null
Max Image Height: 4100
Max Image Width: 15000
Max Download Image Count: null
Max Mosaic Image Count: null
Allow Raster Function: true
Allow Copy: true
Allow Analysis: true
Allow Compute TiePoints: false
Supports Statistics: false
Supports Advanced Queries: false
Use StandardizedQueries: true
Raster Type Infos:
Name: Raster Dataset
Description: Supports all ArcGIS Raster Datasets
Help:
Has Raster Attribute Table: false
Edit Fields Info: null
Ownership Based AccessControl For Rasters: null
Child Resources:
Info
Histograms
Statistics
Key Properties
Legend
Raster Function Infos
Supported Operations:
Export Image
Identify
Measure
Compute Histograms
Compute Statistics Histograms
Get Samples
Compute Class Statistics
Query Boundary
Compute Pixel Location
Compute Angles
Validate
Project