View In:
ArcGIS JavaScript
ArcGIS Online Map Viewer
ArcGIS Earth
Service Description: Bathymetry/MB_MOSAIC_GEORGIA_BASIN
Name: Bathymetry/MB_MOSAIC_GEORGIA_BASIN
Description:
Single Fused Map Cache: false
Extent:
XMin: 252584.28
YMin: 5334791.4
XMax: 525779.28
YMax: 5642606.4
Spatial Reference: 32610
(32610)
Initial Extent:
XMin: 252584.28
YMin: 5334791.4
XMax: 525779.28
YMax: 5642606.4
Spatial Reference: 32610
(32610)
Full Extent:
XMin: 252584.28
YMin: 5334791.4
XMax: 525779.28
YMax: 5642606.4
Spatial Reference: 32610
(32610)
Pixel Size X: 5.0
Pixel Size Y: 5.0
Band Count: 1
Pixel Type: F32
RasterFunction Infos: {"rasterFunctionInfos": [{
"name": "None",
"description": "",
"help": ""
}]}
Mensuration Capabilities: Basic
Has Histograms: true
Has Colormap: false
Has Multi Dimensions : false
Rendering Rule:
Min Scale: 0
Max Scale: 0
Copyright Text:
Service Data Type: esriImageServiceDataTypeGeneric
Min Values: -1474.6300048828125
Max Values: 1.9600000381469727
Mean Values: -208.57765499166456
Standard Deviation Values: 171.53075706856183
Object ID Field:
Fields:
None
Default Mosaic Method: Center
Allowed Mosaic Methods:
SortField:
SortValue: null
Mosaic Operator: First
Default Compression Quality: 75
Default Resampling Method: Bilinear
Max Record Count: null
Max Image Height: 4100
Max Image Width: 15000
Max Download Image Count: null
Max Mosaic Image Count: null
Allow Raster Function: true
Allow Copy: true
Allow Analysis: true
Allow Compute TiePoints: false
Supports Statistics: false
Supports Advanced Queries: false
Use StandardizedQueries: true
Raster Type Infos:
Name: Raster Dataset
Description: Supports all ArcGIS Raster Datasets
Help:
Has Raster Attribute Table: false
Edit Fields Info: null
Ownership Based AccessControl For Rasters: null
Child Resources:
Info
Histograms
Statistics
Key Properties
Legend
Raster Function Infos
Supported Operations:
Export Image
Identify
Measure
Compute Histograms
Compute Statistics Histograms
Get Samples
Compute Class Statistics
Query Boundary
Compute Pixel Location
Compute Angles
Validate
Project