View In:
ArcGIS JavaScript
ArcGIS Online Map Viewer
ArcGIS Earth
Service Description: Bathymetry/NA081_20170619_Cascadia2Barkley_50m_srf_tif
Name: Bathymetry/NA081_20170619_Cascadia2Barkley_50m_srf_tif
Description:
Single Fused Map Cache: false
Extent:
XMin: 593297.3364209906
YMin: 5290309.374941317
XMax: 718997.3364209906
YMax: 5356909.374941317
Spatial Reference: 32609
(32609)
Initial Extent:
XMin: 593297.3364209906
YMin: 5290309.374941317
XMax: 718997.3364209906
YMax: 5356909.374941317
Spatial Reference: 32609
(32609)
Full Extent:
XMin: 593297.3364209906
YMin: 5290309.374941317
XMax: 718997.3364209906
YMax: 5356909.374941317
Spatial Reference: 32609
(32609)
Pixel Size X: 50.0
Pixel Size Y: 50.0
Band Count: 1
Pixel Type: F32
RasterFunction Infos: {"rasterFunctionInfos": [{
"name": "None",
"description": "",
"help": ""
}]}
Mensuration Capabilities: Basic
Has Histograms: true
Has Colormap: false
Has Multi Dimensions : false
Rendering Rule:
Min Scale: 0
Max Scale: 0
Copyright Text:
Service Data Type: esriImageServiceDataTypeGeneric
Min Values: -3132.2133789062
Max Values: -643.51934814453
Mean Values: -2327.6717546751
Standard Deviation Values: 495.48172854111
Object ID Field:
Fields:
None
Default Mosaic Method: Center
Allowed Mosaic Methods:
SortField:
SortValue: null
Mosaic Operator: First
Default Compression Quality: 75
Default Resampling Method: Bilinear
Max Record Count: null
Max Image Height: 4100
Max Image Width: 15000
Max Download Image Count: null
Max Mosaic Image Count: null
Allow Raster Function: true
Allow Copy: true
Allow Analysis: true
Allow Compute TiePoints: false
Supports Statistics: false
Supports Advanced Queries: false
Use StandardizedQueries: true
Raster Type Infos:
Name: Raster Dataset
Description: Supports all ArcGIS Raster Datasets
Help:
Has Raster Attribute Table: false
Edit Fields Info: null
Ownership Based AccessControl For Rasters: null
Child Resources:
Info
Histograms
Statistics
Key Properties
Legend
Raster Function Infos
Supported Operations:
Export Image
Identify
Measure
Compute Histograms
Compute Statistics Histograms
Get Samples
Compute Class Statistics
Query Boundary
Compute Pixel Location
Compute Angles
Validate
Project