View In:
ArcGIS JavaScript
ArcGIS Online Map Viewer
ArcGIS Earth
Service Description: Bathymetry/ONC_total_seafloor_mapped
Name: Bathymetry/ONC_total_seafloor_mapped
Description:
Single Fused Map Cache: false
Extent:
XMin: 386391
YMin: 5251141.5
XMax: 864091
YMax: 5497291.5
Spatial Reference: 32609
(32609)
Initial Extent:
XMin: 386391
YMin: 5251141.5
XMax: 864091
YMax: 5497291.5
Spatial Reference: 32609
(32609)
Full Extent:
XMin: 386391
YMin: 5251141.5
XMax: 864091
YMax: 5497291.5
Spatial Reference: 32609
(32609)
Pixel Size X: 50.0
Pixel Size Y: 50.0
Band Count: 1
Pixel Type: F32
RasterFunction Infos: {"rasterFunctionInfos": [{
"name": "None",
"description": "",
"help": ""
}]}
Mensuration Capabilities: Basic
Has Histograms: true
Has Colormap: false
Has Multi Dimensions : false
Rendering Rule:
Min Scale: 0
Max Scale: 0
Copyright Text:
Service Data Type: esriImageServiceDataTypeGeneric
Min Values: -3499.653076171875
Max Values: 0
Mean Values: -2005.9279322736288
Standard Deviation Values: 801.4439065343959
Object ID Field:
Fields:
None
Default Mosaic Method: Center
Allowed Mosaic Methods:
SortField:
SortValue: null
Mosaic Operator: First
Default Compression Quality: 75
Default Resampling Method: Bilinear
Max Record Count: null
Max Image Height: 4100
Max Image Width: 15000
Max Download Image Count: null
Max Mosaic Image Count: null
Allow Raster Function: true
Allow Copy: true
Allow Analysis: true
Allow Compute TiePoints: false
Supports Statistics: false
Supports Advanced Queries: false
Use StandardizedQueries: true
Raster Type Infos:
Name: Raster Dataset
Description: Supports all ArcGIS Raster Datasets
Help:
Has Raster Attribute Table: false
Edit Fields Info: null
Ownership Based AccessControl For Rasters: null
Child Resources:
Info
Histograms
Statistics
Key Properties
Legend
Raster Function Infos
Supported Operations:
Export Image
Identify
Measure
Compute Histograms
Compute Statistics Histograms
Get Samples
Compute Class Statistics
Query Boundary
Compute Pixel Location
Compute Angles
Validate
Project