View In:
ArcGIS JavaScript
ArcGIS Online Map Viewer
ArcGIS Earth
Service Description: Bathymetry/Transits_45m_cleaned_tiff
Name: Bathymetry/Transits_45m_cleaned_tiff
Description:
Single Fused Map Cache: false
Extent:
XMin: 454657.5
YMin: 5282257.5
XMax: 741667.5
YMax: 5497267.5
Spatial Reference: 32609
(32609)
Initial Extent:
XMin: 454657.5
YMin: 5282257.5
XMax: 741667.5
YMax: 5497267.5
Spatial Reference: 32609
(32609)
Full Extent:
XMin: 454657.5
YMin: 5282257.5
XMax: 741667.5
YMax: 5497267.5
Spatial Reference: 32609
(32609)
Pixel Size X: 45.0
Pixel Size Y: 45.0
Band Count: 1
Pixel Type: F32
RasterFunction Infos: {"rasterFunctionInfos": [{
"name": "None",
"description": "",
"help": ""
}]}
Mensuration Capabilities: Basic
Has Histograms: true
Has Colormap: false
Has Multi Dimensions : false
Rendering Rule:
Min Scale: 0
Max Scale: 0
Copyright Text:
Service Data Type: esriImageServiceDataTypeGeneric
Min Values: -2690.7172851562
Max Values: -485.72222900391
Mean Values: -2198.5851598271
Standard Deviation Values: 517.52224520193
Object ID Field:
Fields:
None
Default Mosaic Method: Center
Allowed Mosaic Methods:
SortField:
SortValue: null
Mosaic Operator: First
Default Compression Quality: 75
Default Resampling Method: Bilinear
Max Record Count: null
Max Image Height: 4100
Max Image Width: 15000
Max Download Image Count: null
Max Mosaic Image Count: null
Allow Raster Function: true
Allow Copy: true
Allow Analysis: true
Allow Compute TiePoints: false
Supports Statistics: false
Supports Advanced Queries: false
Use StandardizedQueries: true
Raster Type Infos:
Name: Raster Dataset
Description: Supports all ArcGIS Raster Datasets
Help:
Has Raster Attribute Table: false
Edit Fields Info: null
Ownership Based AccessControl For Rasters: null
Child Resources:
Info
Histograms
Statistics
Key Properties
Legend
Raster Function Infos
Supported Operations:
Export Image
Identify
Measure
Compute Histograms
Compute Statistics Histograms
Get Samples
Compute Class Statistics
Query Boundary
Compute Pixel Location
Compute Angles
Validate
Project