View In:
ArcGIS JavaScript
ArcGIS Online Map Viewer
ArcGIS Earth
Service Description: Bathymetry/georgiabasin_VSOG_tif
Name: Bathymetry/georgiabasin_VSOG_tif
Description:
Single Fused Map Cache: false
Extent:
XMin: 415593.27083598136
YMin: 5411082.598277174
XMax: 523333.27083598136
YMax: 5478497.598277174
Spatial Reference: 32610
(32610)
Initial Extent:
XMin: 415593.27083598136
YMin: 5411082.598277174
XMax: 523333.27083598136
YMax: 5478497.598277174
Spatial Reference: 32610
(32610)
Full Extent:
XMin: 415593.27083598136
YMin: 5411082.598277174
XMax: 523333.27083598136
YMax: 5478497.598277174
Spatial Reference: 32610
(32610)
Pixel Size X: 5.0
Pixel Size Y: 5.0
Band Count: 1
Pixel Type: F32
RasterFunction Infos: {"rasterFunctionInfos": [{
"name": "None",
"description": "",
"help": ""
}]}
Mensuration Capabilities: Basic
Has Histograms: true
Has Colormap: false
Has Multi Dimensions : false
Rendering Rule:
Min Scale: 0
Max Scale: 0
Copyright Text:
Service Data Type: esriImageServiceDataTypeGeneric
Min Values: -529.08502197266
Max Values: 1.960000038147
Mean Values: -209.87523585782
Standard Deviation Values: 110.82361410513
Object ID Field:
Fields:
None
Default Mosaic Method: Center
Allowed Mosaic Methods:
SortField:
SortValue: null
Mosaic Operator: First
Default Compression Quality: 75
Default Resampling Method: Bilinear
Max Record Count: null
Max Image Height: 4100
Max Image Width: 15000
Max Download Image Count: null
Max Mosaic Image Count: null
Allow Raster Function: true
Allow Copy: true
Allow Analysis: true
Allow Compute TiePoints: false
Supports Statistics: false
Supports Advanced Queries: false
Use StandardizedQueries: true
Raster Type Infos:
Name: Raster Dataset
Description: Supports all ArcGIS Raster Datasets
Help:
Has Raster Attribute Table: false
Edit Fields Info: null
Ownership Based AccessControl For Rasters: null
Child Resources:
Info
Histograms
Statistics
Key Properties
Legend
Raster Function Infos
Supported Operations:
Export Image
Identify
Measure
Compute Histograms
Compute Statistics Histograms
Get Samples
Compute Class Statistics
Query Boundary
Compute Pixel Location
Compute Angles
Validate
Project