View In:
ArcGIS JavaScript
ArcGIS Online Map Viewer
ArcGIS Earth
Service Description: The data was captured on the Fishing Vessel "Royal City" using a Reson SeaBAT 8111 sonar. It was captured August 2006.
Name: Bathymetry/inlet_5_mb
Description: The data was captured on the Fishing Vessel "Royal City" using a Reson SeaBAT 8111 sonar. It was captured August 2006.
Single Fused Map Cache: false
Extent:
XMin: 4082006.839864
YMin: 4143237.049068
XMax: 4120556.839864
YMax: 4211387.049068
Spatial Reference: PROJCS["WGS_1984_Mercator",GEOGCS["GCS_WGS_1984",DATUM["D_WGS_1984",SPHEROID["WGS_1984",6378137.0,298.257223563]],PRIMEM["Greenwich",0.0],UNIT["Degree",0.0174532925199433]],PROJECTION["Mercator"],PARAMETER["False_Easting",0.0],PARAMETER["False_Northing",0.0],PARAMETER["Central_Meridian",-180.0],PARAMETER["Standard_Parallel_1",48.0],UNIT["Meter",1.0]]
Initial Extent:
XMin: 4082006.839864
YMin: 4143237.049068
XMax: 4120556.839864
YMax: 4211387.049068
Spatial Reference: PROJCS["WGS_1984_Mercator",GEOGCS["GCS_WGS_1984",DATUM["D_WGS_1984",SPHEROID["WGS_1984",6378137.0,298.257223563]],PRIMEM["Greenwich",0.0],UNIT["Degree",0.0174532925199433]],PROJECTION["Mercator"],PARAMETER["False_Easting",0.0],PARAMETER["False_Northing",0.0],PARAMETER["Central_Meridian",-180.0],PARAMETER["Standard_Parallel_1",48.0],UNIT["Meter",1.0]]
Full Extent:
XMin: 4082006.839864
YMin: 4143237.049068
XMax: 4120556.839864
YMax: 4211387.049068
Spatial Reference: PROJCS["WGS_1984_Mercator",GEOGCS["GCS_WGS_1984",DATUM["D_WGS_1984",SPHEROID["WGS_1984",6378137.0,298.257223563]],PRIMEM["Greenwich",0.0],UNIT["Degree",0.0174532925199433]],PROJECTION["Mercator"],PARAMETER["False_Easting",0.0],PARAMETER["False_Northing",0.0],PARAMETER["Central_Meridian",-180.0],PARAMETER["Standard_Parallel_1",48.0],UNIT["Meter",1.0]]
Pixel Size X: 5.0
Pixel Size Y: 5.0
Band Count: 1
Pixel Type: F32
RasterFunction Infos: {"rasterFunctionInfos": [{
"name": "None",
"description": "",
"help": ""
}]}
Mensuration Capabilities: Basic
Has Histograms: true
Has Colormap: false
Has Multi Dimensions : false
Rendering Rule:
Min Scale: 0
Max Scale: 0
Copyright Text: Ocean Networks Canada
Service Data Type: esriImageServiceDataTypeGeneric
Min Values: -150.13699340820312
Max Values: -7.613999843597412
Mean Values: -78.75892227434339
Standard Deviation Values: 31.21314606845949
Object ID Field:
Fields:
None
Default Mosaic Method: Center
Allowed Mosaic Methods:
SortField:
SortValue: null
Mosaic Operator: First
Default Compression Quality: 75
Default Resampling Method: Bilinear
Max Record Count: null
Max Image Height: 4100
Max Image Width: 15000
Max Download Image Count: null
Max Mosaic Image Count: null
Allow Raster Function: true
Allow Copy: true
Allow Analysis: true
Allow Compute TiePoints: false
Supports Statistics: false
Supports Advanced Queries: false
Use StandardizedQueries: true
Raster Type Infos:
Name: Raster Dataset
Description: Supports all ArcGIS Raster Datasets
Help:
Has Raster Attribute Table: false
Edit Fields Info: null
Ownership Based AccessControl For Rasters: null
Child Resources:
Info
Histograms
Statistics
Key Properties
Legend
Raster Function Infos
Supported Operations:
Export Image
Identify
Measure
Compute Histograms
Compute Statistics Histograms
Get Samples
Compute Class Statistics
Query Boundary
Compute Pixel Location
Compute Angles
Validate
Project