View In:
ArcGIS JavaScript
ArcGIS Online Map Viewer
ArcGIS Earth
Service Description: Field_Maps/georgiabasin_SI_tif
Name: Field_Maps/georgiabasin_SI_tif
Description:
Single Fused Map Cache: false
Extent:
XMin: 422379.84690913354
YMin: 5370135.261472505
XMax: 476249.84690913354
YMax: 5403845.261472505
Spatial Reference: 32610
(32610)
Initial Extent:
XMin: 422379.84690913354
YMin: 5370135.261472505
XMax: 476249.84690913354
YMax: 5403845.261472505
Spatial Reference: 32610
(32610)
Full Extent:
XMin: 422379.84690913354
YMin: 5370135.261472505
XMax: 476249.84690913354
YMax: 5403845.261472505
Spatial Reference: 32610
(32610)
Pixel Size X: 5.0
Pixel Size Y: 5.0
Band Count: 1
Pixel Type: F32
RasterFunction Infos: {"rasterFunctionInfos": [{
"name": "None",
"description": "",
"help": ""
}]}
Mensuration Capabilities: Basic
Has Histograms: true
Has Colormap: false
Has Multi Dimensions : false
Rendering Rule:
Min Scale: 0
Max Scale: 0
Copyright Text:
Service Data Type: esriImageServiceDataTypeGeneric
Min Values: -229.9700012207
Max Values: 1.2929999828339
Mean Values: -61.961838656343
Standard Deviation Values: 54.810337806165
Object ID Field:
Fields:
None
Default Mosaic Method: Center
Allowed Mosaic Methods:
SortField:
SortValue: null
Mosaic Operator: First
Default Compression Quality: 75
Default Resampling Method: Bilinear
Max Record Count: null
Max Image Height: 4100
Max Image Width: 15000
Max Download Image Count: null
Max Mosaic Image Count: null
Allow Raster Function: true
Allow Copy: true
Allow Analysis: true
Allow Compute TiePoints: false
Supports Statistics: false
Supports Advanced Queries: false
Use StandardizedQueries: true
Raster Type Infos:
Name: Raster Dataset
Description: Supports all ArcGIS Raster Datasets
Help:
Has Raster Attribute Table: false
Edit Fields Info: null
Ownership Based AccessControl For Rasters: null
Child Resources:
Info
Histograms
Statistics
Key Properties
Legend
Raster Function Infos
Supported Operations:
Export Image
Identify
Add Rasters
Update Raster
Delete Rasters
Measure
Compute Histograms
Compute Statistics Histograms
Get Samples
Compute Class Statistics
Query Boundary
Compute Pixel Location
Compute Angles
Validate
Project