View In:
ArcGIS JavaScript
ArcGIS Online Map Viewer
ArcGIS Earth
Service Description: Bathymetry/BarkleyCanyonONCArea_ForBasemap25_tif
Name: Bathymetry/BarkleyCanyonONCArea_ForBasemap25_tif
Description:
Single Fused Map Cache: false
Extent:
XMin: -126.6299890540471
YMin: 48.02812242455043
XMax: -125.68758151949355
YMax: 48.51574195469809
Spatial Reference: 4326
(4326)
Initial Extent:
XMin: -126.6299890540471
YMin: 48.02812242455043
XMax: -125.68758151949355
YMax: 48.51574195469809
Spatial Reference: 4326
(4326)
Full Extent:
XMin: -126.6299890540471
YMin: 48.02812242455043
XMax: -125.68758151949355
YMax: 48.51574195469809
Spatial Reference: 4326
(4326)
Pixel Size X: 2.8549152818950404E-4
Pixel Size Y: 2.8549152818949726E-4
Band Count: 1
Pixel Type: F32
RasterFunction Infos: {"rasterFunctionInfos": [{
"name": "None",
"description": "",
"help": ""
}]}
Mensuration Capabilities: Basic
Has Histograms: true
Has Colormap: false
Has Multi Dimensions : false
Rendering Rule:
Min Scale: 0
Max Scale: 0
Copyright Text:
Service Data Type: esriImageServiceDataTypeGeneric
Min Values: -2695.9699707031
Max Values: -95.58699798584
Mean Values: -1133.2326483445
Standard Deviation Values: 724.62004571963
Object ID Field:
Fields:
None
Default Mosaic Method: Center
Allowed Mosaic Methods:
SortField:
SortValue: null
Mosaic Operator: First
Default Compression Quality: 75
Default Resampling Method: Bilinear
Max Record Count: null
Max Image Height: 4100
Max Image Width: 15000
Max Download Image Count: null
Max Mosaic Image Count: null
Allow Raster Function: true
Allow Copy: true
Allow Analysis: true
Allow Compute TiePoints: false
Supports Statistics: false
Supports Advanced Queries: false
Use StandardizedQueries: true
Raster Type Infos:
Name: Raster Dataset
Description: Supports all ArcGIS Raster Datasets
Help:
Has Raster Attribute Table: false
Edit Fields Info: null
Ownership Based AccessControl For Rasters: null
Child Resources:
Info
Histograms
Statistics
Key Properties
Legend
Raster Function Infos
Supported Operations:
Export Image
Identify
Measure
Compute Histograms
Compute Statistics Histograms
Get Samples
Compute Class Statistics
Query Boundary
Compute Pixel Location
Compute Angles
Validate
Project