View In:
ArcGIS JavaScript
ArcGIS Online Map Viewer
ArcGIS Earth
Service Description: Bathymetry/Clayoquot_Survey_35m_tiff
Name: Bathymetry/Clayoquot_Survey_35m_tiff
Description:
Single Fused Map Cache: false
Extent:
XMin: 646572.5
YMin: 5380917.5
XMax: 680662.5
YMax: 5414027.5
Spatial Reference: 32609
(32609)
Initial Extent:
XMin: 646572.5
YMin: 5380917.5
XMax: 680662.5
YMax: 5414027.5
Spatial Reference: 32609
(32609)
Full Extent:
XMin: 646572.5
YMin: 5380917.5
XMax: 680662.5
YMax: 5414027.5
Spatial Reference: 32609
(32609)
Pixel Size X: 35.0
Pixel Size Y: 35.0
Band Count: 1
Pixel Type: F32
RasterFunction Infos: {"rasterFunctionInfos": [{
"name": "None",
"description": "",
"help": ""
}]}
Mensuration Capabilities: Basic
Has Histograms: true
Has Colormap: false
Has Multi Dimensions : false
Rendering Rule:
Min Scale: 0
Max Scale: 0
Copyright Text:
Service Data Type: esriImageServiceDataTypeGeneric
Min Values: -2097.4909667969
Max Values: -635.48297119141
Mean Values: -1316.4674799732
Standard Deviation Values: 185.72234722399
Object ID Field:
Fields:
None
Default Mosaic Method: Center
Allowed Mosaic Methods:
SortField:
SortValue: null
Mosaic Operator: First
Default Compression Quality: 75
Default Resampling Method: Bilinear
Max Record Count: null
Max Image Height: 4100
Max Image Width: 15000
Max Download Image Count: null
Max Mosaic Image Count: null
Allow Raster Function: true
Allow Copy: true
Allow Analysis: true
Allow Compute TiePoints: false
Supports Statistics: false
Supports Advanced Queries: false
Use StandardizedQueries: true
Raster Type Infos:
Name: Raster Dataset
Description: Supports all ArcGIS Raster Datasets
Help:
Has Raster Attribute Table: false
Edit Fields Info: null
Ownership Based AccessControl For Rasters: null
Child Resources:
Info
Histograms
Statistics
Key Properties
Legend
Raster Function Infos
Supported Operations:
Export Image
Identify
Measure
Compute Histograms
Compute Statistics Histograms
Get Samples
Compute Class Statistics
Query Boundary
Compute Pixel Location
Compute Angles
Validate
Project