View In:
ArcGIS JavaScript
ArcGIS Online Map Viewer
ArcGIS Earth
Service Description: This is a bathymetry dataset at 10 metre resoution for Clayoquot Canyon. It was captured on the E/V Nautilus on June, 2017 during a maintenance expedition to NEPTUNE.
Name: Bathymetry/NA081_20170611_ClayoquotCanyon_prio1_10m_srf_tif
Description: This is a bathymetry dataset at 10 metre resoution for Clayoquot Canyon. It was captured on the E/V Nautilus on June, 2017 during a maintenance expedition to NEPTUNE.
Single Fused Map Cache: false
Extent:
XMin: 666279.262856676
YMin: 5419291.629263934
XMax: 683649.262856676
YMax: 5433331.629263934
Spatial Reference: 32609
(32609)
Initial Extent:
XMin: 666279.262856676
YMin: 5419291.629263934
XMax: 683649.262856676
YMax: 5433331.629263934
Spatial Reference: 32609
(32609)
Full Extent:
XMin: 666279.262856676
YMin: 5419291.629263934
XMax: 683649.262856676
YMax: 5433331.629263934
Spatial Reference: 32609
(32609)
Pixel Size X: 10.0
Pixel Size Y: 10.0
Band Count: 1
Pixel Type: F32
RasterFunction Infos: {"rasterFunctionInfos": [{
"name": "None",
"description": "",
"help": ""
}]}
Mensuration Capabilities: Basic
Has Histograms: true
Has Colormap: false
Has Multi Dimensions : false
Rendering Rule:
Min Scale: 0
Max Scale: 0
Copyright Text: Karen Douglas
Service Data Type: esriImageServiceDataTypeGeneric
Min Values: -875.96405029297
Max Values: -154.28433227539
Mean Values: -417.36066909133
Standard Deviation Values: 201.09199835637
Object ID Field:
Fields:
None
Default Mosaic Method: Center
Allowed Mosaic Methods:
SortField:
SortValue: null
Mosaic Operator: First
Default Compression Quality: 75
Default Resampling Method: Bilinear
Max Record Count: null
Max Image Height: 4100
Max Image Width: 15000
Max Download Image Count: null
Max Mosaic Image Count: null
Allow Raster Function: true
Allow Copy: true
Allow Analysis: true
Allow Compute TiePoints: false
Supports Statistics: false
Supports Advanced Queries: false
Use StandardizedQueries: true
Raster Type Infos:
Name: Raster Dataset
Description: Supports all ArcGIS Raster Datasets
Help:
Has Raster Attribute Table: false
Edit Fields Info: null
Ownership Based AccessControl For Rasters: null
Child Resources:
Info
Histograms
Statistics
Key Properties
Legend
Raster Function Infos
Supported Operations:
Export Image
Identify
Measure
Compute Histograms
Compute Statistics Histograms
Get Samples
Compute Class Statistics
Query Boundary
Compute Pixel Location
Compute Angles
Validate
Project