View In:
ArcGIS JavaScript
ArcGIS Online Map Viewer
ArcGIS Earth
Service Description: This dataset was captured by the EM302 (DI: 23909) aboard the Nautilus. The survey took place from 2020-09-07 06:59:41 UTC to 2020-09-08 01:19:16 UTC.
Name: Bathymetry/NA120_20200907_WestValley_75m_srf_tif
Description: This dataset was captured by the EM302 (DI: 23909) aboard the Nautilus. The survey took place from 2020-09-07 06:59:41 UTC to 2020-09-08 01:19:16 UTC.
Single Fused Map Cache: false
Extent:
XMin: 482400
YMin: 5343300
XMax: 508725
YMax: 5388225
Spatial Reference: 32609
(32609)
Initial Extent:
XMin: 482400
YMin: 5343300
XMax: 508725
YMax: 5388225
Spatial Reference: 32609
(32609)
Full Extent:
XMin: 482400
YMin: 5343300
XMax: 508725
YMax: 5388225
Spatial Reference: 32609
(32609)
Pixel Size X: 75.0
Pixel Size Y: 75.0
Band Count: 1
Pixel Type: F32
RasterFunction Infos: {"rasterFunctionInfos": [{
"name": "None",
"description": "",
"help": ""
}]}
Mensuration Capabilities: Basic
Has Histograms: true
Has Colormap: false
Has Multi Dimensions : false
Rendering Rule:
Min Scale: 0
Max Scale: 0
Copyright Text: Ocean Networks Canada
Service Data Type: esriImageServiceDataTypeGeneric
Min Values: -3053.4194335938
Max Values: -1326.6970214844
Mean Values: -2680.285736464
Standard Deviation Values: 287.71925779683
Object ID Field:
Fields:
None
Default Mosaic Method: Center
Allowed Mosaic Methods:
SortField:
SortValue: null
Mosaic Operator: First
Default Compression Quality: 75
Default Resampling Method: Bilinear
Max Record Count: null
Max Image Height: 4100
Max Image Width: 15000
Max Download Image Count: null
Max Mosaic Image Count: null
Allow Raster Function: true
Allow Copy: true
Allow Analysis: true
Allow Compute TiePoints: false
Supports Statistics: false
Supports Advanced Queries: false
Use StandardizedQueries: true
Raster Type Infos:
Name: Raster Dataset
Description: Supports all ArcGIS Raster Datasets
Help:
Has Raster Attribute Table: false
Edit Fields Info: null
Ownership Based AccessControl For Rasters: null
Child Resources:
Info
Histograms
Statistics
Key Properties
Legend
Raster Function Infos
Supported Operations:
Export Image
Identify
Measure
Compute Histograms
Compute Statistics Histograms
Get Samples
Compute Class Statistics
Query Boundary
Compute Pixel Location
Compute Angles
Validate
Project