View In:
ArcGIS JavaScript
ArcGIS Online Map Viewer
ArcGIS Earth
Service Description: A Kongsberg EM710 mounted on the R/V Falkor was used to capture this bathymetry at 3 m resolution. It was captured in August 2013.
Name: Bathymetry/ONC_SOI_FK009_EM710_3MB1
Description: A Kongsberg EM710 mounted on the R/V Falkor was used to capture this bathymetry at 3 m resolution. It was captured in August 2013.
Single Fused Map Cache: false
Extent:
XMin: 331538.59
YMin: 5407203.89
XMax: 333659.59
YMax: 5409828.89
Spatial Reference: 32610
(32610)
Initial Extent:
XMin: 331538.59
YMin: 5407203.89
XMax: 333659.59
YMax: 5409828.89
Spatial Reference: 32610
(32610)
Full Extent:
XMin: 331538.59
YMin: 5407203.89
XMax: 333659.59
YMax: 5409828.89
Spatial Reference: 32610
(32610)
Pixel Size X: 3.0
Pixel Size Y: 3.0
Band Count: 1
Pixel Type: F32
RasterFunction Infos: {"rasterFunctionInfos": [{
"name": "None",
"description": "",
"help": ""
}]}
Mensuration Capabilities: Basic
Has Histograms: true
Has Colormap: false
Has Multi Dimensions : false
Rendering Rule:
Min Scale: 0
Max Scale: 0
Copyright Text: Ocean Networks Canada, Falkor
Service Data Type: esriImageServiceDataTypeGeneric
Min Values: -130.14500427246094
Max Values: -20.784000396728516
Mean Values: -92.00795938376075
Standard Deviation Values: 17.369088915634862
Object ID Field:
Fields:
None
Default Mosaic Method: Center
Allowed Mosaic Methods:
SortField:
SortValue: null
Mosaic Operator: First
Default Compression Quality: 75
Default Resampling Method: Bilinear
Max Record Count: null
Max Image Height: 4100
Max Image Width: 15000
Max Download Image Count: null
Max Mosaic Image Count: null
Allow Raster Function: true
Allow Copy: true
Allow Analysis: true
Allow Compute TiePoints: false
Supports Statistics: false
Supports Advanced Queries: false
Use StandardizedQueries: true
Raster Type Infos:
Name: Raster Dataset
Description: Supports all ArcGIS Raster Datasets
Help:
Has Raster Attribute Table: false
Edit Fields Info: null
Ownership Based AccessControl For Rasters: null
Child Resources:
Info
Histograms
Statistics
Key Properties
Legend
Raster Function Infos
Supported Operations:
Export Image
Identify
Measure
Compute Histograms
Compute Statistics Histograms
Get Samples
Compute Class Statistics
Query Boundary
Compute Pixel Location
Compute Angles
Validate
Project