View In:
ArcGIS JavaScript
ArcGIS Online Map Viewer
ArcGIS Earth
Service Description: This raster dataset contains bathymetric data of Endeavour, gridded at 30m resolution. They were collected using an EM302 Kongsberg sonar onboard the R/V Thompson. The data were were processed by a Contractor on board. The raw data are also available. These data have not been corrected for tides.
Name: Bathymetry/ONC_TN298_Endeavour_wgs84_30m
Description: This raster dataset contains bathymetric data of Endeavour, gridded at 30m resolution. They were collected using an EM302 Kongsberg sonar onboard the R/V Thompson. The data were were processed by a Contractor on board. The raw data are also available. These data have not been corrected for tides.
Single Fused Map Cache: false
Extent:
XMin: -129.23706169037916
YMin: 47.82070843591649
XMax: -128.93341000609087
YMax: 48.12791140424818
Spatial Reference: 4326
(4326)
Initial Extent:
XMin: -129.23706169037916
YMin: 47.82070843591649
XMax: -128.93341000609087
YMax: 48.12791140424818
Spatial Reference: 4326
(4326)
Full Extent:
XMin: -129.23706169037916
YMin: 47.82070843591649
XMax: -128.93341000609087
YMax: 48.12791140424818
Spatial Reference: 4326
(4326)
Pixel Size X: 2.71602579864309E-4
Pixel Size Y: 2.704251481793082E-4
Band Count: 1
Pixel Type: F32
RasterFunction Infos: {"rasterFunctionInfos": [{
"name": "None",
"description": "",
"help": ""
}]}
Mensuration Capabilities: Basic
Has Histograms: true
Has Colormap: false
Has Multi Dimensions : false
Rendering Rule:
Min Scale: 0
Max Scale: 0
Copyright Text: Ocean Networks Canada
Service Data Type: esriImageServiceDataTypeGeneric
Min Values: -2647.610107421875
Max Values: -1958.510009765625
Mean Values: -2340.6823988859933
Standard Deviation Values: 116.39764943660538
Object ID Field:
Fields:
None
Default Mosaic Method: Center
Allowed Mosaic Methods:
SortField:
SortValue: null
Mosaic Operator: First
Default Compression Quality: 75
Default Resampling Method: Bilinear
Max Record Count: null
Max Image Height: 4100
Max Image Width: 15000
Max Download Image Count: null
Max Mosaic Image Count: null
Allow Raster Function: true
Allow Copy: true
Allow Analysis: true
Allow Compute TiePoints: false
Supports Statistics: false
Supports Advanced Queries: false
Use StandardizedQueries: true
Raster Type Infos:
Name: Raster Dataset
Description: Supports all ArcGIS Raster Datasets
Help:
Has Raster Attribute Table: false
Edit Fields Info: null
Ownership Based AccessControl For Rasters: null
Child Resources:
Info
Histograms
Statistics
Key Properties
Legend
Raster Function Infos
Supported Operations:
Export Image
Identify
Measure
Compute Histograms
Compute Statistics Histograms
Get Samples
Compute Class Statistics
Query Boundary
Compute Pixel Location
Compute Angles
Validate
Project