View In:
ArcGIS JavaScript
ArcGIS Online Map Viewer
ArcGIS Earth
Service Description: Bathymetry/Ov_i05_L02_R00000010_C00000006_tif
Name: Bathymetry/Ov_i05_L02_R00000010_C00000006_tif
Description:
Single Fused Map Cache: false
Extent:
XMin: 608406.1439323213
YMin: 5291923.827879319
XMax: 754319.7728813062
YMax: 5431080.505300003
Spatial Reference: 32609
(32609)
Initial Extent:
XMin: 608406.1439323213
YMin: 5291923.827879319
XMax: 754319.7728813062
YMax: 5431080.505300003
Spatial Reference: 32609
(32609)
Full Extent:
XMin: 608406.1439323213
YMin: 5291923.827879319
XMax: 754319.7728813062
YMax: 5431080.505300003
Spatial Reference: 32609
(32609)
Pixel Size X: 182.62031157570075
Pixel Size Y: 182.62031157570095
Band Count: 2
Pixel Type: F32
RasterFunction Infos: {"rasterFunctionInfos": [{
"name": "None",
"description": "",
"help": ""
}]}
Mensuration Capabilities: Basic
Has Histograms: true
Has Colormap: false
Has Multi Dimensions : false
Rendering Rule:
Min Scale: 0
Max Scale: 0
Copyright Text:
Service Data Type: esriImageServiceDataTypeGeneric
Min Values: -2780.8830566406, -2646.3547363281
Max Values: 0, 1000000
Mean Values: -1704.3158404026, 528208.25562943
Standard Deviation Values: 737.51351394068, 500166.16473264
Object ID Field:
Fields:
None
Default Mosaic Method: Center
Allowed Mosaic Methods:
SortField:
SortValue: null
Mosaic Operator: First
Default Compression Quality: 75
Default Resampling Method: Bilinear
Max Record Count: null
Max Image Height: 4100
Max Image Width: 15000
Max Download Image Count: null
Max Mosaic Image Count: null
Allow Raster Function: true
Allow Copy: true
Allow Analysis: true
Allow Compute TiePoints: false
Supports Statistics: false
Supports Advanced Queries: false
Use StandardizedQueries: true
Raster Type Infos:
Name: Raster Dataset
Description: Supports all ArcGIS Raster Datasets
Help:
Has Raster Attribute Table: false
Edit Fields Info: null
Ownership Based AccessControl For Rasters: null
Child Resources:
Info
Histograms
Statistics
Key Properties
Legend
Raster Function Infos
Supported Operations:
Export Image
Identify
Measure
Compute Histograms
Compute Statistics Histograms
Get Samples
Compute Class Statistics
Query Boundary
Compute Pixel Location
Compute Angles
Validate
Project