View In:
ArcGIS JavaScript
ArcGIS Online Map Viewer
ArcGIS Earth
Service Description: TsunamiDEM/Kitimat_10m_20251010_tif
Name: TsunamiDEM/Kitimat_10m_20251010_tif
Description:
Single Fused Map Cache: false
Extent:
XMin: -129.04806204470302
YMin: 53.64988307753541
XMax: -128.2409235670208
YMax: 54.127229186373846
Spatial Reference: 4326
(4326)
Initial Extent:
XMin: -129.04806204470302
YMin: 53.64988307753541
XMax: -128.2409235670208
YMax: 54.127229186373846
Spatial Reference: 4326
(4326)
Full Extent:
XMin: -129.04806204470302
YMin: 53.64988307753541
XMax: -128.2409235670208
YMax: 54.127229186373846
Spatial Reference: 4326
(4326)
Pixel Size X: 1.5208940600758053E-4
Pixel Size Y: 8.984492919978156E-5
Band Count: 1
Pixel Type: F32
RasterFunction Infos: {"rasterFunctionInfos": [{
"name": "None",
"description": "",
"help": ""
}]}
Mensuration Capabilities: Basic
Has Histograms: false
Has Colormap: false
Has Multi Dimensions : false
Rendering Rule:
Min Scale: 0
Max Scale: 0
Copyright Text:
Service Data Type: esriImageServiceDataTypeGeneric
Min Values: -387.1328125
Max Values: 1957.015625
Mean Values: 571.7846763086
Standard Deviation Values: 490.66261794209
Object ID Field:
Fields:
None
Default Mosaic Method: Center
Allowed Mosaic Methods:
SortField:
SortValue: null
Mosaic Operator: First
Default Compression Quality: 75
Default Resampling Method: Bilinear
Max Record Count: null
Max Image Height: 4100
Max Image Width: 15000
Max Download Image Count: null
Max Mosaic Image Count: null
Allow Raster Function: true
Allow Copy: true
Allow Analysis: true
Allow Compute TiePoints: false
Supports Statistics: false
Supports Advanced Queries: false
Use StandardizedQueries: true
Raster Type Infos:
Name: Raster Dataset
Description: Supports all ArcGIS Raster Datasets
Help:
Has Raster Attribute Table: false
Edit Fields Info: null
Ownership Based AccessControl For Rasters: null
Child Resources:
Info
Statistics
Key Properties
Legend
Raster Function Infos
Supported Operations:
Export Image
Identify
Measure
Compute Histograms
Compute Statistics Histograms
Get Samples
Compute Class Statistics
Query Boundary
Compute Pixel Location
Compute Angles
Validate
Project